BEGIN:VCALENDAR
VERSION:2.0
PRODID:-//Sabre//Sabre VObject 4.5.8//EN
CALSCALE:GREGORIAN
LAST-MODIFIED:20250602T225759Z
BEGIN:VTIMEZONE
TZID:America/Los_Angeles
X-MICROSOFT-CDO-TZID:13
BEGIN:STANDARD
DTSTART:20241103T090000
TZOFFSETFROM:-0700
TZOFFSETTO:-0800
TZNAME:PST
END:STANDARD
BEGIN:STANDARD
DTSTART:20251102T090000
TZOFFSETFROM:-0700
TZOFFSETTO:-0800
TZNAME:PST
END:STANDARD
BEGIN:DAYLIGHT
DTSTART:20250309T100000
TZOFFSETFROM:-0800
TZOFFSETTO:-0700
TZNAME:PDT
END:DAYLIGHT
END:VTIMEZONE
BEGIN:VEVENT
UID:c4bcdfe1-cd32-4d07-ab07-609ca3eee120
DTSTAMP:20250602T225759Z
SUMMARY:CCG — Data Integrity
DTSTART;TZID=America/Los_Angeles:20250606T070000
DTEND;TZID=America/Los_Angeles:20250606T080000
DESCRIPTION:https://www.w3.org/events/meetings/c4bcdfe1-cd32-4d07-ab07-609c
 a3eee120/20250606T070000/\n\n\n\nAgenda\n\nThe agenda this week will cover
  work that Jesse Wright and Christoph Braun have been doing on processing 
 RDF graphs using cryptographic circuits\, zero knowledge queries on collec
 tions of VCs (related to the ZKP work we've been doing) and Ying Tong will
  provide an update on her work. If we're lucky\, we'll make progress towar
 ds figuring out how all of these pieces fit together.\n\nJoining Instructi
 ons: https://meet.google.com/gfr-xkgz-pox\n\nJoining Instructions\n\nGoogl
 e Meet joining info\nVideo call link: https://meet.google.com/gfr-xkgz-pox
 \nOr dial: ‪(US) +1 402-852-5270‬ PIN: ‪765 955 926‬#\nMore phone 
 numbers: https://tel.meet/gfr-xkgz-pox?pin=5217040545477
STATUS:CONFIRMED
CREATED:20250602T225755Z
LAST-MODIFIED:20250602T225759Z
SEQUENCE:2
ORGANIZER;CN=W3C Calendar;PARTSTAT=ACCEPTED;ROLE=NON-PARTICIPANT:mailto:nor
 eply@w3.org
ATTENDEE;CUTYPE=GROUP;ROLE=OPT-PARTICIPANT;RSVP=FALSE;CN=Credentials Commun
 ity Group:mailto:public-credentials@w3.org
RECURRENCE-ID;TZID=America/Los_Angeles:20250606T070000
END:VEVENT
END:VCALENDAR
