BEGIN:VCALENDAR
VERSION:2.0
PRODID:-//Sabre//Sabre VObject 4.5.8//EN
CALSCALE:GREGORIAN
LAST-MODIFIED:20220602T113119Z
BEGIN:VTIMEZONE
TZID:Etc/UTC
BEGIN:STANDARD
DTSTART:20210613T070000
TZOFFSETFROM:+0000
TZOFFSETTO:+0000
TZNAME:UTC
END:STANDARD
END:VTIMEZONE
BEGIN:VEVENT
UID:c4116cc1-d423-41ce-bd16-954058d6450b
DTSTAMP:20220602T113119Z
SUMMARY:WebView CG meeting
DTSTART;TZID=Etc/UTC:20220608T070000
DTEND;TZID=Etc/UTC:20220608T080000
DESCRIPTION:https://www.w3.org/events/meetings/c4116cc1-d423-41ce-bd16-9540
 58d6450b/\n\nFourth teleconference of the WebView Community Group\, which 
 aims to identify\, understand and reduce the issues arising from the use o
 f WebViews to render Web technology-based content outside of a Web browser
  (Native Apps\, MiniApps\, etc).\n\nThe meeting will primarily focus on di
 scussing the use cases submitted by the community.\n\nAgenda: https://gith
 ub.com/WebView-CG/usage-and-challenges/blob/main/meetings/4th-meeting-agen
 da-220608.md\n\nAgenda\n\n- Review and discuss use cases\, https://github.
 com/WebView-CG/usage-and-challenges/issues?q=is%3Aissue+is%3Aopen+label%3A
 %22use+case%22\n- Review other issues (if we have time)\, https://github.c
 om/WebView-CG/usage-and-challenges/issues
STATUS:CONFIRMED
CREATED:20220602T112920Z
LAST-MODIFIED:20220602T113119Z
SEQUENCE:2
ORGANIZER;CN=W3C Calendar;PARTSTAT=ACCEPTED;ROLE=NON-PARTICIPANT:mailto:nor
 eply@w3.org
ATTENDEE;CUTYPE=GROUP;ROLE=OPT-PARTICIPANT;RSVP=FALSE;CN=WebView Community 
 Group:mailto:public-webview@w3.org
END:VEVENT
END:VCALENDAR
