BEGIN:VCALENDAR
VERSION:2.0
PRODID:-//Sabre//Sabre VObject 4.5.8//EN
CALSCALE:GREGORIAN
LAST-MODIFIED:20260219T073712Z
BEGIN:VTIMEZONE
TZID:Asia/Tokyo
X-MICROSOFT-CDO-TZID:20
BEGIN:STANDARD
DTSTART:20241115T080000
TZOFFSETFROM:+0900
TZOFFSETTO:+0900
TZNAME:JST
END:STANDARD
END:VTIMEZONE
BEGIN:VEVENT
UID:c40ecf9f-be75-47ae-a387-6d1101566f0f
DTSTAMP:20260219T073712Z
SUMMARY:Harm and Threat Modeling for National Digital Identities
DTSTART;TZID=Asia/Tokyo:20251110T170000
DTEND;TZID=Asia/Tokyo:20251110T180000
DESCRIPTION:https://www.w3.org/events/meetings/c40ecf9f-be75-47ae-a387-6d11
 01566f0f/\n\nIn line with ongoing efforts to address the harms and threats
  associated with the deployment of national digital identities\, W3C and F
 BK’s Center for Cybersecurity are collaborating to develop an innovative
 \, high-level threat modeling framework. This model is based on a card dec
 k (similar to the STRIDE Elevation of Privilege game) and integrates the t
 ransformative principles of the LEGO® SERIOUS PLAY® methodology to enabl
 e comprehensive and participatory threat modeling.\n\nIn this breakout ses
 sion\, we will explore how using LEGO® SERIOUS PLAY® for threat modeling
  can help uncover security\, privacy\, and human rights risks in digital i
 dentity systems\, and share insights from the initial validation of our ca
 rd game.\n\nWe will then introduce the card deck itself by showcasing a se
 lection of example cards\, built on our previous research and inspired by 
 both the STRIDE Elevation of Privilege game and the LIDDUN-GO deck.\n\nFin
 ally\, we will outline our future plans to advance this line of work in th
 e name of safe\, human-centric technologies and web standards.\n\n**Goal(s
 ):**\nIntroduce our work on Harm and Threat Modeling using LSP in the cont
 ext of Digital Identities\n\nAgenda\n\n**Materials:**\n- [Session proposal
  on GitHub](https://github.com/w3c/tpac2025-breakouts/issues/56)
STATUS:CONFIRMED
CREATED:20251028T131409Z
LAST-MODIFIED:20260219T073712Z
SEQUENCE:3
ORGANIZER;CN=W3C Calendar;PARTSTAT=ACCEPTED;ROLE=NON-PARTICIPANT:mailto:nor
 eply@w3.org
LOCATION:Floor 5 - 505
CATEGORIES:TPAC 2025,Breakout Sessions
END:VEVENT
END:VCALENDAR
