BEGIN:VCALENDAR
VERSION:2.0
PRODID:-//Sabre//Sabre VObject 4.5.8//EN
CALSCALE:GREGORIAN
LAST-MODIFIED:20220104T072620Z
BEGIN:VTIMEZONE
TZID:Etc/UTC
BEGIN:STANDARD
DTSTART:20200530T150000
TZOFFSETFROM:+0000
TZOFFSETTO:+0000
TZNAME:UTC
END:STANDARD
END:VTIMEZONE
BEGIN:VEVENT
UID:c3c80d8a-0761-4fb2-bcf8-7dc1a8b86e6b
DTSTAMP:20220104T072620Z
SUMMARY:WebRTC WG May 2021 call
DTSTART;TZID=Etc/UTC:20210525T150000
DTEND;TZID=Etc/UTC:20210525T170000
DESCRIPTION:https://www.w3.org/events/meetings/c3c80d8a-0761-4fb2-bcf8-7dc1
 a8b86e6b/\n\n\n\nAgenda: https://www.w3.org/2011/04/webrtc/wiki/May_25_202
 1#WebRTC_WG_Virtual_Interim\n\nAgenda\n\n* Capture Handle (Elad. 15 mins)\
 n* Screenshot API (Elad\, 15 mins)\n* Conditional Audio Suppression (Elad\
 , 15 mins)\n* Region Capture (Elad\, 15 mins)\n* Mediacapture-transform (H
 arald\, 30 minutes)
STATUS:CONFIRMED
CREATED:20210504T062524Z
LAST-MODIFIED:20220104T072620Z
SEQUENCE:0
ORGANIZER;CN=W3C Calendar;PARTSTAT=ACCEPTED;ROLE=NON-PARTICIPANT:mailto:nor
 eply@w3.org
ATTENDEE;CUTYPE=GROUP;ROLE=OPT-PARTICIPANT;RSVP=FALSE;CN=Web Real-Time Comm
 unications Working Group:mailto:public-webrtc@w3.org
END:VEVENT
END:VCALENDAR
