BEGIN:VCALENDAR
VERSION:2.0
PRODID:-//Sabre//Sabre VObject 4.5.8//EN
CALSCALE:GREGORIAN
LAST-MODIFIED:20251103T174542Z
BEGIN:VTIMEZONE
TZID:Asia/Tokyo
X-MICROSOFT-CDO-TZID:20
BEGIN:STANDARD
DTSTART:20241118T000000
TZOFFSETFROM:+0900
TZOFFSETTO:+0900
TZNAME:JST
END:STANDARD
END:VTIMEZONE
BEGIN:VEVENT
UID:c3357551-d84b-4e96-b02d-4eab08a16d9e
DTSTAMP:20251103T174542Z
SUMMARY:WHATWG
DTSTART;TZID=Asia/Tokyo:20251113T090000
DTEND;TZID=Asia/Tokyo:20251113T164500
DESCRIPTION:https://www.w3.org/events/meetings/c3357551-d84b-4e96-b02d-4eab
 08a16d9e/\n\n
STATUS:CONFIRMED
CREATED:20250716T142420Z
LAST-MODIFIED:20251103T174542Z
SEQUENCE:7
ORGANIZER;CN=W3C Calendar;PARTSTAT=ACCEPTED;ROLE=NON-PARTICIPANT:mailto:nor
 eply@w3.org
LOCATION:Floor 5 - 501
CATEGORIES:TPAC 2025,Group Meetings
END:VEVENT
END:VCALENDAR
