BEGIN:VCALENDAR
VERSION:2.0
PRODID:-//Sabre//Sabre VObject 4.5.8//EN
CALSCALE:GREGORIAN
LAST-MODIFIED:20220503T142020Z
BEGIN:VTIMEZONE
TZID:Etc/UTC
BEGIN:STANDARD
DTSTART:20210509T080000
TZOFFSETFROM:+0000
TZOFFSETTO:+0000
TZNAME:UTC
END:STANDARD
END:VTIMEZONE
BEGIN:VEVENT
UID:c13778df-efdc-416d-962d-b27bff729ebe
DTSTAMP:20220503T142020Z
SUMMARY:[Canceled] Open Athletics Virtual Meeting - May 2022
DTSTART;TZID=Etc/UTC:20220504T080000
DTEND;TZID=Etc/UTC:20220504T090000
DESCRIPTION:https://www.w3.org/events/meetings/c13778df-efdc-416d-962d-b27b
 ff729ebe/\n\nMeeting postponed to June due to the lack of updates in the a
 ctivities.\n\nAgenda: https://github.com/w3c/opentrack-cg/wiki/Meeting-202
 2-05-04#agenda
STATUS:CANCELLED
CREATED:20220405T110234Z
LAST-MODIFIED:20220503T142020Z
SEQUENCE:2
ORGANIZER;CN=W3C Calendar;PARTSTAT=ACCEPTED;ROLE=NON-PARTICIPANT:mailto:nor
 eply@w3.org
ATTENDEE;CUTYPE=GROUP;ROLE=OPT-PARTICIPANT;RSVP=FALSE;CN=OpenTrack Communit
 y Group:mailto:public-opentrack@w3.org
LOCATION:https://meet.jit.si/openathletics
END:VEVENT
END:VCALENDAR
