BEGIN:VCALENDAR
VERSION:2.0
PRODID:-//Sabre//Sabre VObject 4.5.8//EN
CALSCALE:GREGORIAN
LAST-MODIFIED:20260218T184519Z
BEGIN:VTIMEZONE
TZID:Asia/Tokyo
X-MICROSOFT-CDO-TZID:20
BEGIN:STANDARD
DTSTART:20241117T083000
TZOFFSETFROM:+0900
TZOFFSETTO:+0900
TZNAME:JST
END:STANDARD
END:VTIMEZONE
BEGIN:VEVENT
UID:c00dcdbc-1680-4cb2-b9c8-348e208436e0
DTSTAMP:20260218T184519Z
SUMMARY:QR Codes as first class citizens of the Web
DTSTART;TZID=Asia/Tokyo:20251112T173000
DTEND;TZID=Asia/Tokyo:20251112T183000
DESCRIPTION:https://www.w3.org/events/meetings/c00dcdbc-1680-4cb2-b9c8-348e
 208436e0/\n\nHow do you show a hyperlink on a web page? Maybe underline it
 \, make it a different color etc. So far so 1990s.\n\nHow about an option 
 to show it as a QR Code? Perhaps by just by setting an attribute on the el
 ement? You can click it\, or you can open the link on another device.\n\nT
 hat can help jump from a checkout screen on your laptop to a payment syste
 m on your phone or simply sharing content from one device to others. Maybe
  it's a DID\, a GS1 product identifier\, a DOI\, a vCard\, a location\, a 
 Verifiable Credential. \n\nAnd if the QR Code is generated in real time in
  the browser\, it's possible to do things like add one-time tokens and oth
 er security features that cannot be effectively added in printed symbols.\
 n\nThis session is an early exploration of the idea. Please come and share
  your thoughts.\n\n**Goal(s):**\nAssess interest in making QR Codes a firs
 t class citizen of the Web\n\nAgenda\n\n- Intro- PlH\n- Thoughts and remar
 ks round the room\n\n**Materials:**\n- [Session proposal on GitHub](https:
 //github.com/w3c/tpac2025-breakouts/issues/93)
STATUS:CONFIRMED
CREATED:20251112T025701Z
LAST-MODIFIED:20260218T184519Z
SEQUENCE:1
ORGANIZER;CN=W3C Calendar;PARTSTAT=ACCEPTED;ROLE=NON-PARTICIPANT:mailto:nor
 eply@w3.org
LOCATION:Floor 3 - 303
CATEGORIES:TPAC 2025,Breakout Sessions
END:VEVENT
END:VCALENDAR
