BEGIN:VCALENDAR
VERSION:2.0
PRODID:-//Sabre//Sabre VObject 4.5.8//EN
CALSCALE:GREGORIAN
LAST-MODIFIED:20250823T171158Z
BEGIN:VTIMEZONE
TZID:Etc/UTC
BEGIN:STANDARD
DTSTART:20240831T110000
TZOFFSETFROM:+0000
TZOFFSETTO:+0000
TZNAME:UTC
END:STANDARD
END:VTIMEZONE
BEGIN:VEVENT
UID:be6795a3-ddea-4b65-97e4-e58efa13f0c4
DTSTAMP:20250823T171158Z
SUMMARY:SHACL Rules Task Force
DTSTART;TZID=Etc/UTC:20250826T110000
DTEND;TZID=Etc/UTC:20250826T120000
DESCRIPTION:https://www.w3.org/events/meetings/be6795a3-ddea-4b65-97e4-e58e
 fa13f0c4/\n\n\n\nAgenda\n\n1. Scribe (David)\n2. Other items?\n3. Document
  coverage\n    * Parameterization\n    * Stratification\n    * Legacy (tri
 ple rules\, SPARQL rules)\n    * ... ???\n4. Future meetings?
STATUS:CONFIRMED
CREATED:20250822T135153Z
LAST-MODIFIED:20250823T171158Z
SEQUENCE:3
ORGANIZER;CN=W3C Calendar;PARTSTAT=ACCEPTED;ROLE=NON-PARTICIPANT:mailto:nor
 eply@w3.org
ATTENDEE;CUTYPE=GROUP;ROLE=OPT-PARTICIPANT;RSVP=FALSE;CN=Data Shapes Workin
 g Group:mailto:public-shacl@w3.org
ATTENDEE;CUTYPE=GROUP;ROLE=OPT-PARTICIPANT;RSVP=FALSE;CN=SHACL Inference Ru
 les:mailto:noreply@w3.org
END:VEVENT
END:VCALENDAR
