BEGIN:VCALENDAR
VERSION:2.0
PRODID:-//Sabre//Sabre VObject 4.5.8//EN
CALSCALE:GREGORIAN
LAST-MODIFIED:20220607T195542Z
BEGIN:VTIMEZONE
TZID:America/Los_Angeles
X-MICROSOFT-CDO-TZID:13
BEGIN:STANDARD
DTSTART:20211107T090000
TZOFFSETFROM:-0700
TZOFFSETTO:-0800
TZNAME:PST
END:STANDARD
BEGIN:STANDARD
DTSTART:20221106T090000
TZOFFSETFROM:-0700
TZOFFSETTO:-0800
TZNAME:PST
END:STANDARD
BEGIN:DAYLIGHT
DTSTART:20220313T100000
TZOFFSETFROM:-0800
TZOFFSETTO:-0700
TZNAME:PDT
END:DAYLIGHT
END:VTIMEZONE
BEGIN:VEVENT
UID:be33382b-dc3d-48ff-b88c-1a09a54184fe
DTSTAMP:20220607T195542Z
SUMMARY:Internationalization WG TPAC (Virtual)
DTSTART;TZID=America/Los_Angeles:20220913T070000
DTEND;TZID=America/Los_Angeles:20220913T090000
DESCRIPTION:https://www.w3.org/events/meetings/be33382b-dc3d-48ff-b88c-1a09
 a54184fe/\n\n\n\nAgenda: https://www.w3.org/wiki/TPAC/2022
STATUS:TENTATIVE
CREATED:20220607T195542Z
LAST-MODIFIED:20220607T195542Z
SEQUENCE:0
ORGANIZER;CN=W3C Calendar;PARTSTAT=ACCEPTED;ROLE=NON-PARTICIPANT:mailto:nor
 eply@w3.org
ATTENDEE;CUTYPE=GROUP;ROLE=OPT-PARTICIPANT;RSVP=FALSE;CN=Internationalizati
 on Working Group:mailto:public-i18n-core@w3.org
END:VEVENT
END:VCALENDAR
