BEGIN:VCALENDAR
VERSION:2.0
PRODID:-//Sabre//Sabre VObject 4.5.8//EN
CALSCALE:GREGORIAN
LAST-MODIFIED:20220915T165458Z
BEGIN:VTIMEZONE
TZID:America/Vancouver
BEGIN:STANDARD
DTSTART:20211107T090000
TZOFFSETFROM:-0700
TZOFFSETTO:-0800
TZNAME:PST
END:STANDARD
BEGIN:STANDARD
DTSTART:20221106T090000
TZOFFSETFROM:-0700
TZOFFSETTO:-0800
TZNAME:PST
END:STANDARD
BEGIN:DAYLIGHT
DTSTART:20220313T100000
TZOFFSETFROM:-0800
TZOFFSETTO:-0700
TZNAME:PDT
END:DAYLIGHT
END:VTIMEZONE
BEGIN:VEVENT
UID:be31f7fb-cdb4-4d27-9c21-ca6672aa5714
DTSTAMP:20220915T165458Z
SUMMARY:Immersive Web Working Group
DTSTART;TZID=America/Vancouver:20220915T090000
DTEND;TZID=America/Vancouver:20220915T140000
DESCRIPTION:https://www.w3.org/events/meetings/be31f7fb-cdb4-4d27-9c21-ca66
 72aa5714/\n\nDay 1 of Immersive Web Group meetings agenda is below. Additi
 onally\, we will have the WebRTC joint meeting on September 13th\, in the 
 afternoon. We are working on getting the exact time for the meeting.\n\nWe
  will use the same irc channel but will have 2 different zoom calls for ea
 ch day. Please see the WebRTC joint meeting information here: https://www.
 w3.org/events/meetings/bc28a876-4512-488e-95ba-99c91d8c4d49\n\nLooking for
 ward to the discussions!\n\nAgenda: https://github.com/immersive-web/admin
 istrivia/tree/main/TPAC-2022#day-1--september-15th-2022\n\nAgenda\n\n#### 
 Day 1  September 15th\, 2022\n\n| Title                                   
                                                                          |
  Time  | Length  | Link                                                   
                                                                           
                                                                           
                           | Repo          | Rockets |\n| -----------------
 --------------------------------------------------------------------------
 --------------------- | ----- | ------- | --------------------------------
 --------------------------------------------------------------------------
 --------------------------------------------------------------------------
 ------------------------------------------------ | ------------- | -------
  |\n| Wellcome                                                            
                                              | 9:00  | 25      |          
                                                                           
                                                                           
                                                                         | 
               |         |\n| A feature that toggle stereo at runtime      
                                                                     | 9:25
   | 20      | [https://github.com/immersive-web/layers/issues/265](https:/
 /github.com/immersive-web/layers/issues/265)                              
                                                                           
                      | Layers        | 1 🚀   |\n| Break                
                                                                           
                   | 9:45  | 15      |                                     
                                                                           
                                                                           
                                              |               |         |\n
 | Media layers: add API to swap the HTMLVideoElement                      
                                          | 10:00 | 20      | [https://gith
 ub.com/immersive-web/layers/issues/287](https://github.com/immersive-web/l
 ayers/issues/287)                                                         
                                                                     | Laye
 rs        |         |\n| Media layers: default state is transparent       
                                                                 | 10:20 | 
 20      | [https://github.com/immersive-web/layers/issues/288](https://git
 hub.com/immersive-web/layers/issues/288)                                  
                                                                           
                  | Layers        |         |\n| Break                     
                                                                           
              | 10:40 | 20      |                                          
                                                                           
                                                                           
                                         |               |         |\n| [Is
  it time for browsers to standardize 3D rendering?](https://github.com/imm
 ersive-web/model-element/issues/55) | 11:00 | 25      | [https://github.co
 m/immersive-web/model-element/issues/55](https://github.com/immersive-web/
 model-element/issues/13)                                                  
                                                                | model-ele
 ment |         |\n| Is model a "media element"?                           
                                                            | 11:25 | 20   
    | [https://github.com/immersive-web/model-element/issues/13](https://gi
 thub.com/immersive-web/model-element/issues/13)                           
                                                                           
             | model-element |         |\n| [Which formats?](https://github
 .com/immersive-web/model-element/issues/18)                               
         | 11:45 | 40      | [https://github.com/immersive-web/model-elemen
 t/issues/18](https://github.com/immersive-web/model-element/issues/18)    
                                                                           
                                    | model-element |         |\n| Lunch Br
 eak                                                                       
                                | 12:25 | 1:15    |                        
                                                                           
                                                                           
                                                           |               
 |         |\n| [Require CORS for all <model>-initiated fetches](https://gi
 thub.com/immersive-web/model-element/issues/56)       | 13:40 | 20      | 
 [https://github.com/immersive-web/model-element/issues/56](https://github.
 com/immersive-web/model-element/issues/56) | model-element |\n| Break     
                                                                           
                              | 14:00 | 1:15    |  \n| WebRTC joint meeting
                                                                           
                    | 15:30 | 2:00    |  https://www.w3.org/events/meetings
 /bc28a876-4512-488e-95ba-99c91d8c4d49
STATUS:CONFIRMED
CREATED:20220610T054924Z
LAST-MODIFIED:20220915T165458Z
SEQUENCE:3
ORGANIZER;CN=W3C Calendar;PARTSTAT=ACCEPTED;ROLE=NON-PARTICIPANT:mailto:nor
 eply@w3.org
ATTENDEE;CUTYPE=GROUP;ROLE=OPT-PARTICIPANT;RSVP=FALSE;CN=Immersive Web Work
 ing Group:mailto:public-immersive-web-wg@w3.org
LOCATION:Granville - South Tower 4th floor
CATEGORIES:TPAC 2022,Group Meetings
END:VEVENT
END:VCALENDAR
