BEGIN:VCALENDAR
VERSION:2.0
PRODID:-//Sabre//Sabre VObject 4.5.8//EN
CALSCALE:GREGORIAN
LAST-MODIFIED:20251107T041303Z
BEGIN:VTIMEZONE
TZID:Asia/Tokyo
X-MICROSOFT-CDO-TZID:20
BEGIN:STANDARD
DTSTART:20241115T000000
TZOFFSETFROM:+0900
TZOFFSETTO:+0900
TZNAME:JST
END:STANDARD
END:VTIMEZONE
BEGIN:VEVENT
UID:be187f25-8a30-4093-a0cb-e0489c1e59ad
DTSTAMP:20251107T041303Z
SUMMARY:Web Fonts WG
DTSTART;TZID=Asia/Tokyo:20251110T090000
DTEND;TZID=Asia/Tokyo:20251110T164500
DESCRIPTION:https://www.w3.org/events/meetings/be187f25-8a30-4093-a0cb-e048
 9c1e59ad/\n\n\n\nAgenda\n\n0. Extras (agenda\, topics+\, etc.)\n1. Review 
 [recent IFT spec updates](https://pr-preview.s3.amazonaws.com/w3c/IFT/302/
 b871826...3acd670.html)\n2. Discuss existing [normative requirements and c
 onformance classes](https://pr-preview.s3.amazonaws.com/w3c/IFT/pull/302.h
 tml)\n3. Review [CTS plan](https://github.com/w3c/ift-client-tests/pull/2)
  and discuss approaches for each conformance test.\n4. Review recent [test
  generation updates](https://github.com/w3c/ift-client-tests/pull/3/files)
 \n5. Discussion: encoder updates - current approaches to [glyph segmentati
 on](https://github.com/w3c/ift-encoder/blob/main/docs/experimental/closure
 _glyph_segmentation.md) & [merging process](https://github.com/w3c/ift-enc
 oder/blob/main/docs/experimental/closure_glyph_segmentation_merging.md)\n6
 . AOB
STATUS:CONFIRMED
CREATED:20250716T142522Z
LAST-MODIFIED:20251107T041303Z
SEQUENCE:8
ORGANIZER;CN=W3C Calendar;PARTSTAT=ACCEPTED;ROLE=NON-PARTICIPANT:mailto:nor
 eply@w3.org
ATTENDEE;CUTYPE=GROUP;ROLE=OPT-PARTICIPANT;RSVP=FALSE;CN=Web Fonts Working 
 Group:mailto:public-webfonts-wg@w3.org
LOCATION:Floor 3 - 303
CATEGORIES:TPAC 2025,Group Meetings
END:VEVENT
END:VCALENDAR
