BEGIN:VCALENDAR
VERSION:2.0
PRODID:-//Sabre//Sabre VObject 4.5.8//EN
CALSCALE:GREGORIAN
LAST-MODIFIED:20240924T221618Z
BEGIN:VTIMEZONE
TZID:America/Los_Angeles
X-MICROSOFT-CDO-TZID:13
BEGIN:STANDARD
DTSTART:20231105T090000
TZOFFSETFROM:-0700
TZOFFSETTO:-0800
TZNAME:PST
END:STANDARD
BEGIN:STANDARD
DTSTART:20241103T090000
TZOFFSETFROM:-0700
TZOFFSETTO:-0800
TZNAME:PST
END:STANDARD
BEGIN:DAYLIGHT
DTSTART:20240310T100000
TZOFFSETFROM:-0800
TZOFFSETTO:-0700
TZNAME:PDT
END:DAYLIGHT
END:VTIMEZONE
BEGIN:VEVENT
UID:bdef3142-8c25-44dc-a130-138184559d32
DTSTAMP:20240924T221618Z
SUMMARY:Internationalization Working Group\, CSS Working Group Joint Meetin
 g
DTSTART;TZID=America/Los_Angeles:20240924T163000
DTEND;TZID=America/Los_Angeles:20240924T180000
DESCRIPTION:https://www.w3.org/events/meetings/bdef3142-8c25-44dc-a130-1381
 84559d32/\n\n\n\nAgenda: https://lists.w3.org/Archives/Public/public-editi
 ng-tf/2024Sep/0003.html
STATUS:CONFIRMED
CREATED:20240614T161654Z
LAST-MODIFIED:20240924T221618Z
SEQUENCE:7
ORGANIZER;CN=W3C Calendar;PARTSTAT=ACCEPTED;ROLE=NON-PARTICIPANT:mailto:nor
 eply@w3.org
ATTENDEE;CUTYPE=GROUP;ROLE=OPT-PARTICIPANT;RSVP=FALSE;CN=Cascading Style Sh
 eets (CSS) Working Group:mailto:www-style@w3.org
ATTENDEE;CUTYPE=GROUP;ROLE=OPT-PARTICIPANT;RSVP=FALSE;CN=Internationalizati
 on Working Group:mailto:public-i18n-core@w3.org
LOCATION:4 Concourse Level - Laguna
CATEGORIES:TPAC 2024,Group Meetings
END:VEVENT
END:VCALENDAR
