BEGIN:VCALENDAR
VERSION:2.0
PRODID:-//Sabre//Sabre VObject 4.5.8//EN
CALSCALE:GREGORIAN
LAST-MODIFIED:20251103T174517Z
BEGIN:VTIMEZONE
TZID:Asia/Tokyo
X-MICROSOFT-CDO-TZID:20
BEGIN:STANDARD
DTSTART:20241115T020000
TZOFFSETFROM:+0900
TZOFFSETTO:+0900
TZNAME:JST
END:STANDARD
END:VTIMEZONE
BEGIN:VEVENT
UID:bdd0ac94-40e3-4a3f-9f0f-a7b595590657
DTSTAMP:20251103T174517Z
SUMMARY:WebExtensions Community Group
DTSTART;TZID=Asia/Tokyo:20251110T110000
DTEND;TZID=Asia/Tokyo:20251110T164500
DESCRIPTION:https://www.w3.org/events/meetings/bdd0ac94-40e3-4a3f-9f0f-a7b5
 95590657/\n\n\n\nAgenda: https://github.com/w3c/webextensions/issues/843
STATUS:CONFIRMED
CREATED:20250716T142357Z
LAST-MODIFIED:20251103T174517Z
SEQUENCE:8
ORGANIZER;CN=W3C Calendar;PARTSTAT=ACCEPTED;ROLE=NON-PARTICIPANT:mailto:nor
 eply@w3.org
ATTENDEE;CUTYPE=GROUP;ROLE=OPT-PARTICIPANT;RSVP=FALSE;CN=WebExtensions Comm
 unity Group:mailto:public-webextensions@w3.org
LOCATION:Floor 4 - 405
CATEGORIES:TPAC 2025,Group Meetings
END:VEVENT
END:VCALENDAR
