BEGIN:VCALENDAR
VERSION:2.0
PRODID:-//Sabre//Sabre VObject 4.5.8//EN
CALSCALE:GREGORIAN
LAST-MODIFIED:20221208T100902Z
BEGIN:VTIMEZONE
TZID:Europe/Vienna
BEGIN:DAYLIGHT
DTSTART:20220327T010000
TZOFFSETFROM:+0100
TZOFFSETTO:+0200
TZNAME:CEST
END:DAYLIGHT
BEGIN:DAYLIGHT
DTSTART:20230326T010000
TZOFFSETFROM:+0100
TZOFFSETTO:+0200
TZNAME:CEST
END:DAYLIGHT
BEGIN:STANDARD
DTSTART:20221030T010000
TZOFFSETFROM:+0200
TZOFFSETTO:+0100
TZNAME:CET
END:STANDARD
END:VTIMEZONE
BEGIN:VEVENT
UID:bd4d14bb-6c48-4c13-9613-6fad5e8e4475
DTSTAMP:20221208T100902Z
SUMMARY:DPVCG Meeting Call 14 DEC 2022
DTSTART;TZID=Europe/Vienna:20221214T140000
DTEND;TZID=Europe/Vienna:20221214T150000
DESCRIPTION:https://www.w3.org/events/meetings/bd4d14bb-6c48-4c13-9613-6fad
 5e8e4475/\n\n\n\nAgenda\n\nPrevious minutes: https://www.w3.org/2022/12/07
 -dpvcg-minutes.html\nAll minutes: https://www.w3.org/community/dpvcg/wiki/
 Meeting_Calls#Minutes_of_Meetings\n\n- DPV-Legal\n  - discussion on how to
  align with external vocabularies\n  - see https://github.com/w3c/dpv/issu
 es/46#issuecomment-1342425696 on possible approaches\n\n- Risk Management 
 extension\n  - completing work on risk management\n  - completing work on 
 Justifications\n  - completing work on Impacts (and also adding Benefits)\
 n  - https://github.com/w3c/dpv/issues/74\n\nFor adding further items on t
 he agenda\, please reply to this email.
STATUS:CONFIRMED
CREATED:20221208T100901Z
LAST-MODIFIED:20221208T100902Z
SEQUENCE:0
ORGANIZER;CN=W3C Calendar;PARTSTAT=ACCEPTED;ROLE=NON-PARTICIPANT:mailto:nor
 eply@w3.org
ATTENDEE;CUTYPE=GROUP;ROLE=OPT-PARTICIPANT;RSVP=FALSE;CN=Data Privacy Vocab
 ularies and Controls Community Group:mailto:public-dpvcg@w3.org
LOCATION:virtual
END:VEVENT
END:VCALENDAR
