BEGIN:VCALENDAR
VERSION:2.0
PRODID:-//Sabre//Sabre VObject 4.5.8//EN
CALSCALE:GREGORIAN
LAST-MODIFIED:20230608T140115Z
BEGIN:VTIMEZONE
TZID:Europe/London
X-MICROSOFT-CDO-TZID:1
BEGIN:STANDARD
DTSTART:20221030T010000
TZOFFSETFROM:+0100
TZOFFSETTO:+0000
TZNAME:GMT
END:STANDARD
BEGIN:STANDARD
DTSTART:20231029T010000
TZOFFSETFROM:+0100
TZOFFSETTO:+0000
TZNAME:GMT
END:STANDARD
BEGIN:DAYLIGHT
DTSTART:20230326T010000
TZOFFSETFROM:+0000
TZOFFSETTO:+0100
TZNAME:BST
END:DAYLIGHT
END:VTIMEZONE
BEGIN:VEVENT
UID:bcffcb42-2fb9-4b0c-a749-a7c5c2cf5813
DTSTAMP:20230608T140115Z
SUMMARY:W3C Internationalization Working Group Teleconference
DTSTART;TZID=Europe/London:20230608T150000
DTEND;TZID=Europe/London:20230608T160000
DESCRIPTION:https://www.w3.org/events/meetings/bcffcb42-2fb9-4b0c-a749-a7c5
 c2cf5813/20230608T150000/\n\n***NOTE WELL*** This meeting is scheduled in 
 the `Europe/London` time zone. That time zone observes Daylight Savings/Su
 mmer Time. Your local time for this call may vary due to differences in yo
 ur local time zone's observation of DST/ST from that of the UK.\n\n(This e
 vent has a new access number/link beginning 11 May 2023)\n\nAgenda\n\n####
  BE PREPARED \nThings to do before the meeting:\n\n* _things to do here_\n
 \n#### AGENDA\n\n**Topic: Agenda Review**\n_Send `agenda+` requests to the
  public-i18n-core@ list in advance of the meeting!_\n\n**Topic: Action Ite
 ms**\n_Review of open action items from previous meetings_\n* [Trackbot](h
 ttps://www.w3.org/International/track/actions/open)\n\n**Topic: Info Share
 **\n_Share information of interest to the working group or pertaining to i
 nternationalization in general._\n\n**Topic: RADAR Review**\n_Time to revi
 ew new and on-going requests for specification review. Incoming requests a
 re assigned to shepherds in this part of the call._\n_In addition\, we rev
 iew the status of specifications that have received comments. *Please revi
 ew your issues and owned items in advance of the call*_\n* [RADAR](https:/
 /github.com/w3c/i18n-request/projects/1)\n\n**Topic: Pending Issue Review*
 *\n_Review of new and pending issues raised by working group members or vi
 a the various bots._\n* [Pending Issues](https://github.com/w3c/i18n-activ
 ity/issues?q=is%3Aissue+is%3Aopen+label%3Apending)\n\n**Topic: _insert top
 ic here_**\n_insert description here_\n\n\n**Topic: AOB?**\n\n---\n\n#### 
 REMINDER \nGetting too many of these notifications? Read [this](https://li
 sts.w3.org/Archives/Member/member-i18n-core/2022Mar/0013.html) email from 
 Richard on how to manage notifications.\n\n\n#### SCRIBE \nIf you are set 
 to scribe and cannot make it\, please send regrets to the chair. Volunteer
 s to act as scribe cheerfully accepted.\n\nFelix [2022-10-20]\nAtsushi [20
 23-01-26]\nBert [2023-02-02]\nFuqiao [2023-02-09]\n\n#### Chair's Link Far
 m\nhttps://www.w3.org/International/track/actions/open\nhttps://github.com
 /w3c/i18n-request/projects/1\nhttps://github.com/w3c/i18n-activity/issues?
 q=is%3Aissue+is%3Aopen+label%3Apending
STATUS:TENTATIVE
CREATED:20230428T073809Z
LAST-MODIFIED:20230608T140115Z
SEQUENCE:9
ORGANIZER;CN=W3C Calendar;PARTSTAT=ACCEPTED;ROLE=NON-PARTICIPANT:mailto:nor
 eply@w3.org
ATTENDEE;CUTYPE=GROUP;ROLE=OPT-PARTICIPANT;RSVP=FALSE;CN=Internationalizati
 on Working Group:mailto:public-i18n-core@w3.org
LOCATION:Location: https://www.w3.org/2017/09/i18n-meeting-info.html
RECURRENCE-ID;TZID=Europe/London:20230608T150000
END:VEVENT
END:VCALENDAR
