BEGIN:VCALENDAR
VERSION:2.0
PRODID:-//Sabre//Sabre VObject 4.5.8//EN
CALSCALE:GREGORIAN
LAST-MODIFIED:20230522T064146Z
BEGIN:VTIMEZONE
TZID:Europe/London
X-MICROSOFT-CDO-TZID:1
BEGIN:STANDARD
DTSTART:20221030T010000
TZOFFSETFROM:+0100
TZOFFSETTO:+0000
TZNAME:GMT
END:STANDARD
BEGIN:STANDARD
DTSTART:20231029T010000
TZOFFSETFROM:+0100
TZOFFSETTO:+0000
TZNAME:GMT
END:STANDARD
BEGIN:DAYLIGHT
DTSTART:20230326T010000
TZOFFSETFROM:+0000
TZOFFSETTO:+0100
TZNAME:BST
END:DAYLIGHT
END:VTIMEZONE
BEGIN:VEVENT
UID:bcffcb42-2fb9-4b0c-a749-a7c5c2cf5813
DTSTAMP:20230522T064146Z
SUMMARY:W3C Internationalization Working Group Teleconference
DTSTART;TZID=Europe/London:20230525T150000
DTEND;TZID=Europe/London:20230525T160000
DESCRIPTION:https://www.w3.org/events/meetings/bcffcb42-2fb9-4b0c-a749-a7c5
 c2cf5813/20230525T150000/\n\n***NOTE WELL*** This meeting is scheduled in 
 the `Europe/London` time zone. That time zone observes Daylight Savings/Su
 mmer Time. Your local time for this call may vary due to differences in yo
 ur local time zone's observation of DST/ST from that of the UK.\n\n_The ch
 air will be absent for this call_\n\nAgenda\n\n#### BE PREPARED \nThings t
 o do before the meeting:\n\n* _none_\n\n#### AGENDA\n\n**Topic: Agenda Rev
 iew**\n_Send `agenda+` requests to the public-i18n-core@ list in advance o
 f the meeting!_\n\n**Topic: Action Items**\n_Review of open action items f
 rom previous meetings_\n* [Trackbot](https://www.w3.org/International/trac
 k/actions/open)\n\n**Topic: Info Share**\n_Share information of interest t
 o the working group or pertaining to internationalization in general._\n\n
 **Topic: RADAR Review**\n_Time to review new and on-going requests for spe
 cification review. Incoming requests are assigned to shepherds in this par
 t of the call._\n_In addition\, we review the status of specifications tha
 t have received comments. *Please review your issues and owned items in ad
 vance of the call*_\n* [RADAR](https://github.com/w3c/i18n-request/project
 s/1)\n\n**Topic: Pending Issue Review**\n_Review of new and pending issues
  raised by working group members or via the various bots._\n* [Pending Iss
 ues](https://github.com/w3c/i18n-activity/issues?q=is%3Aissue+is%3Aopen+la
 bel%3Apending)\n\n**Topic: _I18N ⇔ CSS_**\n_Fallout from the recent call
 ?_\n\n\n**Topic: AOB?**\n\n---\n\n#### REMINDER \nGetting too many of thes
 e notifications? Read [this](https://lists.w3.org/Archives/Member/member-i
 18n-core/2022Mar/0013.html) email from Richard on how to manage notificati
 ons.\n\n\n#### SCRIBE \nIf you are set to scribe and cannot make it\, plea
 se send regrets to the chair. Volunteers to act as scribe cheerfully accep
 ted.\n\nBert [2023-04-20]\nFelix [2023-04-27]\nFuqiao [2023-05-04]\nAtsush
 i [2023-05-11]\nAtsushi [2023-05-18] _let's not make Atsushi scribe every 
 time 😉_\n\n#### Chair's Link Farm\nhttps://www.w3.org/International/tra
 ck/actions/open\nhttps://github.com/w3c/i18n-request/projects/1\nhttps://g
 ithub.com/w3c/i18n-activity/issues?q=is%3Aissue+is%3Aopen+label%3Apending
STATUS:CONFIRMED
CREATED:20230522T064146Z
LAST-MODIFIED:20230522T064146Z
SEQUENCE:9
ORGANIZER;CN=W3C Calendar;PARTSTAT=ACCEPTED;ROLE=NON-PARTICIPANT:mailto:nor
 eply@w3.org
ATTENDEE;CUTYPE=GROUP;ROLE=OPT-PARTICIPANT;RSVP=FALSE;CN=Internationalizati
 on Working Group:mailto:public-i18n-core@w3.org
LOCATION:Location: https://www.w3.org/2017/09/i18n-meeting-info.html
RECURRENCE-ID;TZID=Europe/London:20230525T150000
END:VEVENT
END:VCALENDAR
