BEGIN:VCALENDAR
VERSION:2.0
PRODID:-//Sabre//Sabre VObject 4.5.8//EN
CALSCALE:GREGORIAN
LAST-MODIFIED:20230515T074801Z
BEGIN:VTIMEZONE
TZID:Europe/London
X-MICROSOFT-CDO-TZID:1
BEGIN:STANDARD
DTSTART:20221030T010000
TZOFFSETFROM:+0100
TZOFFSETTO:+0000
TZNAME:GMT
END:STANDARD
BEGIN:STANDARD
DTSTART:20231029T010000
TZOFFSETFROM:+0100
TZOFFSETTO:+0000
TZNAME:GMT
END:STANDARD
BEGIN:DAYLIGHT
DTSTART:20230326T010000
TZOFFSETFROM:+0000
TZOFFSETTO:+0100
TZNAME:BST
END:DAYLIGHT
END:VTIMEZONE
BEGIN:VEVENT
UID:bcffcb42-2fb9-4b0c-a749-a7c5c2cf5813
DTSTAMP:20230515T074801Z
SUMMARY:W3C Internationalization Working Group Teleconference
DTSTART;TZID=Europe/London:20230518T150000
DTEND;TZID=Europe/London:20230518T160000
DESCRIPTION:https://www.w3.org/events/meetings/bcffcb42-2fb9-4b0c-a749-a7c5
 c2cf5813/20230518T150000/\n\n***NOTE WELL*** This meeting is scheduled in 
 the `Europe/London` time zone. That time zone observes Daylight Savings/Su
 mmer Time. Your local time for this call may vary due to differences in yo
 ur local time zone's observation of DST/ST from that of the UK.\n\n(This e
 vent has a new access number/link beginning 11 May 2023)\n\nAgenda\n\n####
  BE PREPARED \nThings to do before the meeting:\n\n* _Read and comment on 
 this document:_\n   * https://w3c.github.io/i18n-drafts/pages/languagedev_
 participation.html\n\n#### AGENDA\n\n**Topic: Agenda Review**\n_Send `agen
 da+` requests to the public-i18n-core@ list in advance of the meeting!_\n\
 n**Topic: Action Items**\n_Review of open action items from previous meeti
 ngs_\n* [Trackbot](https://www.w3.org/International/track/actions/open)\n\
 n**Topic: Info Share**\n_Share information of interest to the working grou
 p or pertaining to internationalization in general._\n\n**Topic: RADAR Rev
 iew**\n_Time to review new and on-going requests for specification review.
  Incoming requests are assigned to shepherds in this part of the call._\n_
 In addition\, we review the status of specifications that have received co
 mments. *Please review your issues and owned items in advance of the call*
 _\n* [RADAR](https://github.com/w3c/i18n-request/projects/1)\n\n**Topic: P
 ending Issue Review**\n_Review of new and pending issues raised by working
  group members or via the various bots._\n* [Pending Issues](https://githu
 b.com/w3c/i18n-activity/issues?q=is%3Aissue+is%3Aopen+label%3Apending)\n\n
 **Topic: Review of `languagedev_participation` document**\n_Richard has up
 dated the participation instructions for the language enablement work. Let
 's spend time discussing._\n* https://w3c.github.io/i18n-drafts/pages/lang
 uagedev_participation.html\n\n**Topic: CSS Custom Property Namespacing: sa
 tisified??**\n_It appears that CSS is incorporating fixes to the below lin
 ked #7129. Are we satisfied?_\n*https://github.com/w3c/csswg-drafts/issues
 /7129\n* https://lists.w3.org/Archives/Member/member-i18n-core/2023May/000
 2.html\n\n**Topic: AOB?**\n\n---\n\n#### REMINDER \nGetting too many of th
 ese notifications? Read [this](https://lists.w3.org/Archives/Member/member
 -i18n-core/2022Mar/0013.html) email from Richard on how to manage notifica
 tions.\n\n\n#### SCRIBE \nIf you are set to scribe and cannot make it\, pl
 ease send regrets to the chair. Volunteers to act as scribe cheerfully acc
 epted.\n\nFelix [2022-10-20]\nAtsushi [2023-01-26]\nBert [2023-02-02]\nFuq
 iao [2023-02-09]\n\n#### Chair's Link Farm\nhttps://www.w3.org/Internation
 al/track/actions/open\nhttps://github.com/w3c/i18n-request/projects/1\nhtt
 ps://github.com/w3c/i18n-activity/issues?q=is%3Aissue+is%3Aopen+label%3Ape
 nding
STATUS:CONFIRMED
CREATED:20230513T065102Z
LAST-MODIFIED:20230515T074801Z
SEQUENCE:9
ORGANIZER;CN=W3C Calendar;PARTSTAT=ACCEPTED;ROLE=NON-PARTICIPANT:mailto:nor
 eply@w3.org
ATTENDEE;CUTYPE=GROUP;ROLE=OPT-PARTICIPANT;RSVP=FALSE;CN=Internationalizati
 on Working Group:mailto:public-i18n-core@w3.org
LOCATION:Location: https://www.w3.org/2017/09/i18n-meeting-info.html
RECURRENCE-ID;TZID=Europe/London:20230518T150000
END:VEVENT
END:VCALENDAR
