BEGIN:VCALENDAR
VERSION:2.0
PRODID:-//Sabre//Sabre VObject 4.5.8//EN
CALSCALE:GREGORIAN
LAST-MODIFIED:20230511T134908Z
BEGIN:VTIMEZONE
TZID:Europe/London
X-MICROSOFT-CDO-TZID:1
BEGIN:STANDARD
DTSTART:20221030T010000
TZOFFSETFROM:+0100
TZOFFSETTO:+0000
TZNAME:GMT
END:STANDARD
BEGIN:STANDARD
DTSTART:20231029T010000
TZOFFSETFROM:+0100
TZOFFSETTO:+0000
TZNAME:GMT
END:STANDARD
BEGIN:DAYLIGHT
DTSTART:20230326T010000
TZOFFSETFROM:+0000
TZOFFSETTO:+0100
TZNAME:BST
END:DAYLIGHT
END:VTIMEZONE
BEGIN:VEVENT
UID:bcffcb42-2fb9-4b0c-a749-a7c5c2cf5813
DTSTAMP:20230511T134908Z
SUMMARY:W3C Internationalization Working Group Teleconference
DTSTART;TZID=Europe/London:20230511T150000
DTEND;TZID=Europe/London:20230511T160000
DESCRIPTION:https://www.w3.org/events/meetings/bcffcb42-2fb9-4b0c-a749-a7c5
 c2cf5813/20230511T150000/\n\n***NOTE WELL*** This meeting is scheduled in 
 the `Europe/London` time zone. That time zone observes Daylight Savings/Su
 mmer Time. Your local time for this call may vary due to differences in yo
 ur local time zone's observation of DST/ST from that of the UK.\n\n(This e
 vent has a new access number/link beginning 11 May 2023)\n\nAgenda\n\n####
  BE PREPARED \nThings to do before the meeting:\n\n* _No homework this wee
 k._\n\n#### AGENDA\n\n**Topic: Agenda Review**\n_Send `agenda+` requests t
 o the public-i18n-core@ list in advance of the meeting!_\n\n**Topic: Actio
 n Items**\n_Review of open action items from previous meetings_\n* [Trackb
 ot](https://www.w3.org/International/track/actions/open)\n\n**Topic: Info 
 Share**\n_Share information of interest to the working group or pertaining
  to internationalization in general._\n\n**Topic: RADAR Review**\n_Time to
  review new and on-going requests for specification review. Incoming reque
 sts are assigned to shepherds in this part of the call._\n_In addition\, w
 e review the status of specifications that have received comments. *Please
  review your issues and owned items in advance of the call*_\n* [RADAR](ht
 tps://github.com/w3c/i18n-request/projects/1)\n\n**Topic: Pending Issue Re
 view**\n_Review of new and pending issues raised by working group members 
 or via the various bots._\n* [Pending Issues](https://github.com/w3c/i18n-
 activity/issues?q=is%3Aissue+is%3Aopen+label%3Apending)\n\n**Topic: How do
  we feel about installable locales?**\n_The below ECMA-402 PR would forbid
  browsers from installing a locale (in a bid to prevent fingerprinting). I
 n that regard it can be like the thread we've had about fonts. Should we w
 eigh in?_\n* https://github.com/tc39/ecma402/pull/780#issuecomment-1541345
 796\n* https://lists.w3.org/Archives/Public/public-i18n-core/2023AprJun/00
 81.html\n* https://lists.w3.org/Archives/Public/public-i18n-core/2023AprJu
 n/0082.html\n\n**Topic: AOB?**\n\n---\n\n#### REMINDER \nGetting too many 
 of these notifications? Read [this](https://lists.w3.org/Archives/Member/m
 ember-i18n-core/2022Mar/0013.html) email from Richard on how to manage not
 ifications.\n\n\n#### SCRIBE \nIf you are set to scribe and cannot make it
 \, please send regrets to the chair. Volunteers to act as scribe cheerfull
 y accepted.\n\nAtsushi [2023-04-13]\nBert [2023-04-20]\nFelix [2023-04-27]
 \nFuqiao [2023-05-04]\n\n#### Chair's Link Farm\nhttps://www.w3.org/Intern
 ational/track/actions/open\nhttps://github.com/w3c/i18n-request/projects/1
 \nhttps://github.com/w3c/i18n-activity/issues?q=is%3Aissue+is%3Aopen+label
 %3Apending
STATUS:CONFIRMED
CREATED:20230508T142655Z
LAST-MODIFIED:20230511T134908Z
SEQUENCE:9
ORGANIZER;CN=W3C Calendar;PARTSTAT=ACCEPTED;ROLE=NON-PARTICIPANT:mailto:nor
 eply@w3.org
ATTENDEE;CUTYPE=GROUP;ROLE=OPT-PARTICIPANT;RSVP=FALSE;CN=Internationalizati
 on Working Group:mailto:public-i18n-core@w3.org
LOCATION:Location: https://www.w3.org/2017/09/i18n-meeting-info.html
RECURRENCE-ID;TZID=Europe/London:20230511T150000
END:VEVENT
END:VCALENDAR
