BEGIN:VCALENDAR
VERSION:2.0
PRODID:-//Sabre//Sabre VObject 4.5.8//EN
CALSCALE:GREGORIAN
LAST-MODIFIED:20241016T160855Z
BEGIN:VTIMEZONE
TZID:America/New_York
X-MICROSOFT-CDO-TZID:10
BEGIN:STANDARD
DTSTART:20231105T060000
TZOFFSETFROM:-0400
TZOFFSETTO:-0500
TZNAME:EST
END:STANDARD
BEGIN:STANDARD
DTSTART:20241103T060000
TZOFFSETFROM:-0400
TZOFFSETTO:-0500
TZNAME:EST
END:STANDARD
BEGIN:DAYLIGHT
DTSTART:20240310T070000
TZOFFSETFROM:-0500
TZOFFSETTO:-0400
TZNAME:EDT
END:DAYLIGHT
END:VTIMEZONE
BEGIN:VEVENT
UID:bcd2e026-9621-481e-8ac6-824a71464234
DTSTAMP:20241016T160855Z
SUMMARY:VCWG Meeting
DTSTART;TZID=America/New_York:20241016T110000
DTEND;TZID=America/New_York:20241016T120000
DESCRIPTION:https://www.w3.org/events/meetings/bcd2e026-9621-481e-8ac6-824a
 71464234/20241016T110000/\n\nThe regular meeting for the Verifiable Creden
 tials Working Group.\n\nAgenda\n\n### Date and Time:\nWednesday 16 Oct 202
 4\nTime: 11:00 AM Boston (60min)\nLocal date/time link: https://www.timean
 ddate.com/worldclock/fixedtime.html?msg=VCWG+Meeting&iso=20241016T11&p1=43
 &ah=1\n\n### SPECIAL NOTE\, if any:\n\n\n### Scribe list: \nDavidL\, Jenni
 eM\, AnilJ\, PhilL\, MikeJones\, BenY\, DavidC\, GabeC\, WillA\, JAndrieu\
 , Dave\, ManuS\, KDean\, DmitriZ\, WesS\n\n### Meeting Chair:\nGabe Cohen\
 n\n### Topics (time)\n1-Agenda Review\, Introductions  (5 min)\n2-Controll
 er Document [1] (50 min)\n\n#### Links\n[1] https://github.com/w3c/control
 ler-document/pulls\n\n### Issues marked pending close:\nAs of the time thi
 s email was sent\, the following issues and PRs were marked 'pending close
 ':\n\nThere are no pending close issues\n\nFor an up to date list of the c
 urrent set of 'pending close' issues\, please see: \nhttps://github.com/w3
 c/vc-data-model/issues?q=is%3Aissue+is%3Aopen+sort%3Aupdated-asc+label%3A%
 22pending+close%22
STATUS:CONFIRMED
CREATED:20241016T071443Z
LAST-MODIFIED:20241016T160855Z
SEQUENCE:2
ORGANIZER;CN=W3C Calendar;PARTSTAT=ACCEPTED;ROLE=NON-PARTICIPANT:mailto:nor
 eply@w3.org
ATTENDEE;CUTYPE=GROUP;ROLE=OPT-PARTICIPANT;RSVP=FALSE;CN=Verifiable Credent
 ials Working Group:mailto:public-vc-wg@w3.org
RECURRENCE-ID;TZID=America/New_York:20241016T110000
END:VEVENT
END:VCALENDAR
