BEGIN:VCALENDAR
VERSION:2.0
PRODID:-//Sabre//Sabre VObject 4.5.8//EN
CALSCALE:GREGORIAN
LAST-MODIFIED:20241017T144743Z
BEGIN:VTIMEZONE
TZID:Europe/London
X-MICROSOFT-CDO-TZID:1
BEGIN:DAYLIGHT
DTSTART:20240331T010000
TZOFFSETFROM:+0000
TZOFFSETTO:+0100
TZNAME:BST
END:DAYLIGHT
BEGIN:STANDARD
DTSTART:20241027T010000
TZOFFSETFROM:+0100
TZOFFSETTO:+0000
TZNAME:GMT
END:STANDARD
END:VTIMEZONE
BEGIN:VEVENT
UID:bc275b6e-6c38-4ed5-b324-6606a0c6cca7
DTSTAMP:20241017T144743Z
SUMMARY:Internationalization (I18N) WG Teleconference
DTSTART;TZID=Europe/London:20241024T150000
DTEND;TZID=Europe/London:20241024T160000
DESCRIPTION:https://www.w3.org/events/meetings/bc275b6e-6c38-4ed5-b324-6606
 a0c6cca7/20241024T150000/\n\nThis iteration canceled due to a combination 
 of UTW and Geek Week.\n\nAgenda\n\n#### BE PREPARED \nThings to do before 
 the meeting:\n\n\n#### AGENDA\n\n**Topic: Agenda Review**\n\n**Topic: Acti
 on Items**\n_Review of open action items from previous meetings_\n* [I18N-
 ACTIONS](https://github.com/w3c/i18n-actions/issues)\n\n**Topic: Info Shar
 e**\n_Share information of interest to the working group or pertaining to 
 internationalization in general._\n\n**Topic: RADAR Review**\n_Time to rev
 iew new and on-going requests for specification review. Incoming requests 
 are assigned to shepherds in this part of the call._\n_In addition\, we re
 view the status of specifications that have received comments. *Please rev
 iew your issues and owned items in advance of the call*_\n* [RADAR](https:
 //github.com/orgs/w3c/projects/91/views/1)\n\n**Topic: Pending Issue Revie
 w**\n_Review of new and pending issues raised by working group members or 
 via the various bots._\n* [Pending Issues](https://github.com/w3c/i18n-act
 ivity/issues?q=is%3Aissue+is%3Aopen+label%3Apending)\n\n\n**Topic: AOB?**\
 n\n---\n\n#### REMINDER \nGetting too many of these notifications? Read [t
 his](https://lists.w3.org/Archives/Member/member-i18n-core/2022Mar/0013.ht
 ml) email from Richard on how to manage notifications.\n\n\n#### SCRIBE \n
 If you are set to scribe and cannot make it\, please send regrets to the c
 hair. Volunteers to act as scribe cheerfully accepted.\n\n(rota)\n\n#### C
 hair's Link Farm\nhttps://github.com/w3c/i18n-actions/issues\nhttps://gith
 ub.com/w3c/i18n-request/projects/1\nhttps://github.com/w3c/i18n-activity/i
 ssues?q=is%3Aissue+is%3Aopen+label%3Apending
STATUS:CANCELLED
CREATED:20241017T144742Z
LAST-MODIFIED:20241017T144743Z
SEQUENCE:3
ORGANIZER;CN=W3C Calendar;PARTSTAT=ACCEPTED;ROLE=NON-PARTICIPANT:mailto:nor
 eply@w3.org
ATTENDEE;CUTYPE=GROUP;ROLE=OPT-PARTICIPANT;RSVP=FALSE;CN=Internationalizati
 on Working Group:mailto:public-i18n-core@w3.org
LOCATION:Location: https://www.w3.org/2017/09/i18n-meeting-info.html
RECURRENCE-ID;TZID=Europe/London:20241024T150000
END:VEVENT
END:VCALENDAR
