BEGIN:VCALENDAR
VERSION:2.0
PRODID:-//Sabre//Sabre VObject 4.5.8//EN
CALSCALE:GREGORIAN
LAST-MODIFIED:20220502T132331Z
BEGIN:VTIMEZONE
TZID:Etc/UTC
BEGIN:STANDARD
DTSTART:20210430T160000
TZOFFSETFROM:+0000
TZOFFSETTO:+0000
TZNAME:UTC
END:STANDARD
END:VTIMEZONE
BEGIN:VEVENT
UID:bb598438-f839-4ca4-8e3a-b2035d1ff2d1
DTSTAMP:20220502T132331Z
SUMMARY:WebRTC Working Group / Media Working Group Joint Meeting
DTSTART;TZID=Etc/UTC:20220425T160000
DTEND;TZID=Etc/UTC:20220425T170000
DESCRIPTION:https://www.w3.org/events/meetings/bb598438-f839-4ca4-8e3a-b203
 5d1ff2d1/\n\n### Agenda\n\nThis agenda can be viewed and updated on [GitHu
 b](https://github.com/w3c/media-wg/blob/main/meetings/2022-04-25-WebRTC_Wo
 rking_Group_Media_Working_Group_Joint_Meeting-agenda.md).\n\nIf you would 
 like to add an item to the agenda or volunteer to scribe please open a pul
 l request against this agenda.\n\n* [Capture Handle Actions](https://wicg.
 github.io/capture-handle/) and [Media Session Actions](https://w3c.github.
 io/mediasession/) and whether or not the two action interfaces can work to
 gether. Is there overlap\, and if so\, how to share potential work between
  the working groups?\n\n* Future joint meetings\n\n* AOB\n\n### WebRTC Wor
 king Group / Media Working Group Joint Meeting - 2022-04-25\n\n| Location 
 | Date & Time |\n| -------- | ----------- |\n| San Francisco (U.S.A.) | Mo
 nday\, April 25\, 9:00 AM PDT |\n| Boston (U.S.A.) | Monday\, April 25\, 1
 2:00 PM EDT |\n| London (United Kingdom) | Monday\, April 25\, 5:00 PM GMT
 +1 |\n| Paris (France) | Monday\, April 25\, 6:00 PM GMT+2 |\n| Tokyo (Jap
 an) | Tuesday\, April 26\, 1:00 AM GMT+9 |\n| Corresponding UTC (GMT) | Mo
 nday\, April 25\, 4:00 PM UTC |\n\n### Logistics\n\nChairs: Bernard Aboba\
 , Jan-Ivar Bruaroey\, Harald Alvestrand (WebRTC WG)\, Jer Noble\, Chris Ne
 edham (Media WG)\n\nWebex: https://lists.w3.org/Archives/Member/w3c-archiv
 e/2020Jan/0323.html\n\nIRC: https://irc.w3.org/?channels=#mediawg\n\nIf yo
 u are unable to login to view the call details please ask on IRC before th
 e call.\n\nFor assistance go to https://mit.webex.com/mit/mc  and on the l
 eft navigation bar\, click "Support".
STATUS:CONFIRMED
CREATED:20220414T192842Z
LAST-MODIFIED:20220502T132331Z
SEQUENCE:1
ORGANIZER;CN=W3C Calendar;PARTSTAT=ACCEPTED;ROLE=NON-PARTICIPANT:mailto:nor
 eply@w3.org
ATTENDEE;CUTYPE=GROUP;ROLE=OPT-PARTICIPANT;RSVP=FALSE;CN=Media Working Grou
 p:mailto:public-media-wg@w3.org
ATTENDEE;CUTYPE=GROUP;ROLE=OPT-PARTICIPANT;RSVP=FALSE;CN=Web Real-Time Comm
 unications Working Group:mailto:public-webrtc@w3.org
END:VEVENT
END:VCALENDAR
