BEGIN:VCALENDAR
VERSION:2.0
PRODID:-//Sabre//Sabre VObject 4.5.8//EN
CALSCALE:GREGORIAN
LAST-MODIFIED:20251103T174621Z
BEGIN:VTIMEZONE
TZID:Asia/Tokyo
X-MICROSOFT-CDO-TZID:20
BEGIN:STANDARD
DTSTART:20241119T000000
TZOFFSETFROM:+0900
TZOFFSETTO:+0900
TZNAME:JST
END:STANDARD
END:VTIMEZONE
BEGIN:VEVENT
UID:bb41b1fe-238f-437a-9c9c-07cd0c90e6cd
DTSTAMP:20251103T174621Z
SUMMARY:Media Working Group
DTSTART;TZID=Asia/Tokyo:20251114T090000
DTEND;TZID=Asia/Tokyo:20251114T160000
DESCRIPTION:https://www.w3.org/events/meetings/bb41b1fe-238f-437a-9c9c-07cd
 0c90e6cd/\n\n\n\nAgenda: https://github.com/w3c/media-wg/wiki/TPAC-2025
STATUS:CONFIRMED
CREATED:20250716T142500Z
LAST-MODIFIED:20251103T174621Z
SEQUENCE:9
ORGANIZER;CN=W3C Calendar;PARTSTAT=ACCEPTED;ROLE=NON-PARTICIPANT:mailto:nor
 eply@w3.org
ATTENDEE;CUTYPE=GROUP;ROLE=OPT-PARTICIPANT;RSVP=FALSE;CN=Media Working Grou
 p:mailto:public-media-wg@w3.org
LOCATION:Floor 4 - 405
CATEGORIES:TPAC 2025,Group Meetings
END:VEVENT
END:VCALENDAR
