BEGIN:VCALENDAR
VERSION:2.0
PRODID:-//Sabre//Sabre VObject 4.5.8//EN
CALSCALE:GREGORIAN
LAST-MODIFIED:20221102T205515Z
BEGIN:VTIMEZONE
TZID:America/Toronto
BEGIN:DAYLIGHT
DTSTART:20210314T070000
TZOFFSETFROM:-0500
TZOFFSETTO:-0400
TZNAME:EDT
END:DAYLIGHT
BEGIN:DAYLIGHT
DTSTART:20220313T070000
TZOFFSETFROM:-0500
TZOFFSETTO:-0400
TZNAME:EDT
END:DAYLIGHT
BEGIN:STANDARD
DTSTART:20211107T060000
TZOFFSETFROM:-0400
TZOFFSETTO:-0500
TZNAME:EST
END:STANDARD
END:VTIMEZONE
BEGIN:VEVENT
UID:bae8f585-1f82-42bf-86be-ca083c9f4e0d
DTSTAMP:20221102T205515Z
SUMMARY:Fixed Layout Accessibility Taskforce
DTSTART;TZID=America/Toronto:20220301T090000
DTEND;TZID=America/Toronto:20220301T100000
DESCRIPTION:https://www.w3.org/events/meetings/bae8f585-1f82-42bf-86be-ca08
 3c9f4e0d/20220301T090000/\n\nMeeting of the Fixed Layout Accessibility Tas
 kforce. We are exploring best practices for the production of fixed layout
  EPUB content.
STATUS:CONFIRMED
CREATED:20210817T131222Z
LAST-MODIFIED:20221102T205515Z
SEQUENCE:1
ORGANIZER;CN=W3C Calendar;PARTSTAT=ACCEPTED;ROLE=NON-PARTICIPANT:mailto:nor
 eply@w3.org
ATTENDEE;CUTYPE=GROUP;ROLE=OPT-PARTICIPANT;RSVP=FALSE;CN=EPUB 3 Working Gro
 up:mailto:public-epub-wg@w3.org
LOCATION:https://mit.zoom.us/j/92468476393?pwd=Yk5ydXZqSTlla01PTkdlZVpuZ1lR
 dz09
RECURRENCE-ID;TZID=America/Toronto:20220301T090000
END:VEVENT
END:VCALENDAR
