BEGIN:VCALENDAR
VERSION:2.0
PRODID:-//Sabre//Sabre VObject 4.5.8//EN
CALSCALE:GREGORIAN
LAST-MODIFIED:20250625T091006Z
BEGIN:VTIMEZONE
TZID:America/New_York
X-MICROSOFT-CDO-TZID:10
BEGIN:STANDARD
DTSTART:20241103T060000
TZOFFSETFROM:-0400
TZOFFSETTO:-0500
TZNAME:EST
END:STANDARD
BEGIN:STANDARD
DTSTART:20251102T060000
TZOFFSETFROM:-0400
TZOFFSETTO:-0500
TZNAME:EST
END:STANDARD
BEGIN:DAYLIGHT
DTSTART:20250309T070000
TZOFFSETFROM:-0500
TZOFFSETTO:-0400
TZNAME:EDT
END:DAYLIGHT
END:VTIMEZONE
BEGIN:VEVENT
UID:ba5308e1-0d14-4350-aee5-eb912bab6229
DTSTAMP:20250625T091006Z
SUMMARY:WoT Scripting API
DTSTART;TZID=America/New_York:20250625T050000
DTEND;TZID=America/New_York:20250625T060000
DESCRIPTION:https://www.w3.org/events/meetings/ba5308e1-0d14-4350-aee5-eb91
 2bab6229/20250625T050000/\n\nThe [WoT Scripting API task force](https://ww
 w.w3.org/WoT/IG/wiki/WG_WoT_Scripting_API_WebConf) is responsible for spec
 ifying an application programming interface (API) representing the WoT Int
 erface that allows scripts to discover\, invoke interactions with Things\,
  and expose interactions for locally defined Things.\n\nAgenda: https://ww
 w.w3.org/WoT/IG/wiki/WG_WoT_Scripting_API_WebConf#Agenda
STATUS:CANCELLED
CREATED:20250625T091005Z
LAST-MODIFIED:20250625T091006Z
SEQUENCE:9
ORGANIZER;CN=W3C Calendar;PARTSTAT=ACCEPTED;ROLE=NON-PARTICIPANT:mailto:nor
 eply@w3.org
ATTENDEE;CUTYPE=GROUP;ROLE=OPT-PARTICIPANT;RSVP=FALSE;CN=Web of Things Inte
 rest Group:mailto:public-wot-ig@w3.org
ATTENDEE;CUTYPE=GROUP;ROLE=OPT-PARTICIPANT;RSVP=FALSE;CN=Web of Things Work
 ing Group:mailto:public-wot-wg@w3.org
LOCATION:Zoom
RECURRENCE-ID;TZID=America/New_York:20250625T050000
END:VEVENT
END:VCALENDAR
