BEGIN:VCALENDAR
VERSION:2.0
PRODID:-//Sabre//Sabre VObject 4.5.8//EN
CALSCALE:GREGORIAN
LAST-MODIFIED:20230213T191309Z
BEGIN:VTIMEZONE
TZID:America/New_York
X-MICROSOFT-CDO-TZID:10
BEGIN:DAYLIGHT
DTSTART:20220313T070000
TZOFFSETFROM:-0500
TZOFFSETTO:-0400
TZNAME:EDT
END:DAYLIGHT
BEGIN:DAYLIGHT
DTSTART:20230312T070000
TZOFFSETFROM:-0500
TZOFFSETTO:-0400
TZNAME:EDT
END:DAYLIGHT
BEGIN:STANDARD
DTSTART:20221106T060000
TZOFFSETFROM:-0400
TZOFFSETTO:-0500
TZNAME:EST
END:STANDARD
END:VTIMEZONE
BEGIN:VEVENT
UID:ba41e450-aeca-4f0f-9034-720dafdd1583
DTSTAMP:20230213T191309Z
SUMMARY:W3C Credentials Community Group - NIST 800-63-4 Digital Identity Gu
 idelines Feedback
DTSTART;TZID=America/New_York:20230302T160000
DTEND;TZID=America/New_York:20230302T170000
DESCRIPTION:https://www.w3.org/events/meetings/ba41e450-aeca-4f0f-9034-720d
 afdd1583/\n\nMEETING LINKS:\nJitsi Teleconf:\n      https://meet.w3c-ccg.o
 rg/weekly\nText Chat:\n      http://irc.w3.org/?channels=ccg\n      irc://
 irc.w3.org:6665/#ccg\nVoice:\n     US phone: tel:+1.602.932.2243\;1\n\nMIN
 UTES FROM LAST MEETING:\nhttps://w3c-ccg.github.io/meetings/
STATUS:CONFIRMED
CREATED:20230213T190216Z
LAST-MODIFIED:20230213T191309Z
SEQUENCE:0
ORGANIZER;CN=W3C Calendar;PARTSTAT=ACCEPTED;ROLE=NON-PARTICIPANT:mailto:nor
 eply@w3.org
ATTENDEE;CUTYPE=GROUP;ROLE=OPT-PARTICIPANT;RSVP=FALSE;CN=Credentials Commun
 ity Group:mailto:public-credentials@w3.org
END:VEVENT
END:VCALENDAR
