BEGIN:VCALENDAR
VERSION:2.0
PRODID:-//Sabre//Sabre VObject 4.5.8//EN
CALSCALE:GREGORIAN
LAST-MODIFIED:20251016T203652Z
BEGIN:VTIMEZONE
TZID:Asia/Tokyo
X-MICROSOFT-CDO-TZID:20
BEGIN:STANDARD
DTSTART:20241119T000000
TZOFFSETFROM:+0900
TZOFFSETTO:+0900
TZNAME:JST
END:STANDARD
END:VTIMEZONE
BEGIN:VEVENT
UID:b9ad5428-5aac-4c10-bfc1-6b08c0531fab
DTSTAMP:20251016T203652Z
SUMMARY:Second Screen Working Group
DTSTART;TZID=Asia/Tokyo:20251114T090000
DTEND;TZID=Asia/Tokyo:20251114T103000
DESCRIPTION:https://www.w3.org/events/meetings/b9ad5428-5aac-4c10-bfc1-6b08
 c0531fab/\n\n
STATUS:CANCELLED
CREATED:20250716T142451Z
LAST-MODIFIED:20251016T203652Z
SEQUENCE:5
ORGANIZER;CN=W3C Calendar;PARTSTAT=ACCEPTED;ROLE=NON-PARTICIPANT:mailto:nor
 eply@w3.org
ATTENDEE;CUTYPE=GROUP;ROLE=OPT-PARTICIPANT;RSVP=FALSE;CN=Second Screen Work
 ing Group:mailto:public-secondscreen@w3.org
LOCATION:R12
CATEGORIES:TPAC 2025,Group Meetings
END:VEVENT
END:VCALENDAR
