BEGIN:VCALENDAR
VERSION:2.0
PRODID:-//Sabre//Sabre VObject 4.5.8//EN
CALSCALE:GREGORIAN
LAST-MODIFIED:20220119T094827Z
BEGIN:VTIMEZONE
TZID:Etc/UTC
BEGIN:STANDARD
DTSTART:20210123T160000
TZOFFSETFROM:+0000
TZOFFSETTO:+0000
TZNAME:UTC
END:STANDARD
END:VTIMEZONE
BEGIN:VEVENT
UID:b8505df1-b40c-47d6-af48-e798013590ac
DTSTAMP:20220119T094827Z
SUMMARY:WebRTC WG January 2022 call
DTSTART;TZID=Etc/UTC:20220118T160000
DTEND;TZID=Etc/UTC:20220118T180000
DESCRIPTION:https://www.w3.org/events/meetings/b8505df1-b40c-47d6-af48-e798
 013590ac/\n\n\n\nAgenda: https://www.w3.org/2011/04/webrtc/wiki/January_18
 _2022
STATUS:CONFIRMED
CREATED:20220103T094443Z
LAST-MODIFIED:20220119T094827Z
SEQUENCE:1
ORGANIZER;CN=W3C Calendar;PARTSTAT=ACCEPTED;ROLE=NON-PARTICIPANT:mailto:nor
 eply@w3.org
ATTENDEE;CUTYPE=GROUP;ROLE=OPT-PARTICIPANT;RSVP=FALSE;CN=Web Real-Time Comm
 unications Working Group:mailto:public-webrtc@w3.org
END:VEVENT
END:VCALENDAR
