BEGIN:VCALENDAR
VERSION:2.0
PRODID:-//Sabre//Sabre VObject 4.5.8//EN
CALSCALE:GREGORIAN
LAST-MODIFIED:20250602T220952Z
BEGIN:VTIMEZONE
TZID:Europe/London
X-MICROSOFT-CDO-TZID:1
BEGIN:STANDARD
DTSTART:20241027T010000
TZOFFSETFROM:+0100
TZOFFSETTO:+0000
TZNAME:GMT
END:STANDARD
BEGIN:STANDARD
DTSTART:20251026T010000
TZOFFSETFROM:+0100
TZOFFSETTO:+0000
TZNAME:GMT
END:STANDARD
BEGIN:DAYLIGHT
DTSTART:20250330T010000
TZOFFSETFROM:+0000
TZOFFSETTO:+0100
TZNAME:BST
END:DAYLIGHT
END:VTIMEZONE
BEGIN:VEVENT
UID:b7edae68-f52c-4aab-a1a6-3c37459e0786
DTSTAMP:20250602T220952Z
SUMMARY:Internationalization (I18N) WG Teleconference
DTSTART;TZID=Europe/London:20250605T150000
DTEND;TZID=Europe/London:20250605T160000
DESCRIPTION:https://www.w3.org/events/meetings/b7edae68-f52c-4aab-a1a6-3c37
 459e0786/20250605T150000/\n\n***NOTE WELL*** This meeting is scheduled in 
 the `Europe/London` time zone. \n\nThat time zone observes Daylight Saving
 s/Summer Time. Your local time for this call may vary due to differences i
 n your local time zone's observation of DST/ST from that of the UK.\n\n###
  Agenda Items of Note This Week\n\n* PR Review\n\n(Updates to follow\,  ag
 enda is incomplete)\n\nAgenda\n\n#### BE PREPARED \nThings to do before th
 e meeting:\n\n\n### Topic: Agenda Review\n\n### Topic: Action Items\n_Revi
 ew of open action items from previous meetings_\n* [I18N-ACTIONS](https://
 github.com/w3c/i18n-actions/issues)\n\n### Topic: Info Share\n_Share infor
 mation of interest to the working group or pertaining to internationalizat
 ion in general._\n\n### Topic: RADAR Review\n_Time to review new and on-go
 ing requests for specification review. Incoming requests are assigned to s
 hepherds in this part of the call._\n_In addition\, we review the status o
 f specifications that have received comments. *Please review your issues a
 nd owned items in advance of the call*_\n* [RADAR](https://github.com/orgs
 /w3c/projects/91/views/1)\n\n### Topic: Pending Issue Review\n_Review of n
 ew and pending issues raised by working group members or via the various b
 ots._\n* [Pending Issues](https://github.com/w3c/i18n-activity/issues?q=is
 %3Aissue+is%3Aopen+label%3Apending)\n\n### Topic: PR Review\n_Review of op
 en pull requests on glossary\, species\, etc._\n\n### Topic: AOB?\n\n---\n
 \n#### REMINDER \nGetting too many of these notifications? Read [this](htt
 ps://lists.w3.org/Archives/Member/member-i18n-core/2022Mar/0013.html) emai
 l from Richard on how to manage notifications.\n\n\n#### SCRIBE \nIf you a
 re set to scribe and cannot make it\, please send regrets to the chair. Vo
 lunteers to act as scribe cheerfully accepted.\n\n* Atsushi\n* Bert\n* Fuq
 iao\n\n#### Chair's Link Farm\nhttps://github.com/w3c/i18n-actions/issues\
 nhttps://github.com/orgs/w3c/projects/91/views/1\nhttps://github.com/w3c/i
 18n-activity/issues?q=is%3Aissue+is%3Aopen+label%3Apending\n\n***WHAT IS T
 HIS?*** This is the regular weekly teleconference of the W3C International
 ization Working Group.\n\n***AGENDA+*** If you would like the chair to con
 sider adding an item to the agenda\, please send email to the public-i18n-
 core@ mailing list with a subject line starting `agenda+`. Here is an [exa
 mple](https://lists.w3.org/Archives/Public/public-i18n-core/2023OctDec/000
 7.html).
STATUS:CONFIRMED
CREATED:20250602T220952Z
LAST-MODIFIED:20250602T220952Z
SEQUENCE:2
ORGANIZER;CN=W3C Calendar;PARTSTAT=ACCEPTED;ROLE=NON-PARTICIPANT:mailto:nor
 eply@w3.org
ATTENDEE;CUTYPE=GROUP;ROLE=OPT-PARTICIPANT;RSVP=FALSE;CN=Internationalizati
 on Working Group:mailto:public-i18n-core@w3.org
RECURRENCE-ID;TZID=Europe/London:20250605T150000
END:VEVENT
END:VCALENDAR
