BEGIN:VCALENDAR
VERSION:2.0
PRODID:-//Sabre//Sabre VObject 4.5.8//EN
CALSCALE:GREGORIAN
LAST-MODIFIED:20250421T135039Z
BEGIN:VTIMEZONE
TZID:Europe/London
X-MICROSOFT-CDO-TZID:1
BEGIN:STANDARD
DTSTART:20241027T010000
TZOFFSETFROM:+0100
TZOFFSETTO:+0000
TZNAME:GMT
END:STANDARD
BEGIN:STANDARD
DTSTART:20251026T010000
TZOFFSETFROM:+0100
TZOFFSETTO:+0000
TZNAME:GMT
END:STANDARD
BEGIN:DAYLIGHT
DTSTART:20250330T010000
TZOFFSETFROM:+0000
TZOFFSETTO:+0100
TZNAME:BST
END:DAYLIGHT
END:VTIMEZONE
BEGIN:VEVENT
UID:b7edae68-f52c-4aab-a1a6-3c37459e0786
DTSTAMP:20250421T135039Z
SUMMARY:Internationalization (I18N) WG Teleconference
DTSTART;TZID=Europe/London:20250424T150000
DTEND;TZID=Europe/London:20250424T160000
DESCRIPTION:https://www.w3.org/events/meetings/b7edae68-f52c-4aab-a1a6-3c37
 459e0786/20250424T150000/\n\n***NOTE WELL*** This meeting is scheduled in 
 the `Europe/London` time zone. \n\nThat time zone observes Daylight Saving
 s/Summer Time. Your local time for this call may vary due to differences i
 n your local time zone's observation of DST/ST from that of the UK.\n\n###
  Agenda Items of Note This Week\n\nThe primary focus of this week's call w
 ill be a joint meeting with WCAG-ACT\, with a focus on this issue:\n* http
 s://github.com/w3c/wcag-act/issues/572\n\nIf time permits:\n* **Refactor o
 ur email notifications?**\n* **ByteString in specdev PR**\n\nAgenda\n\n###
 # BE PREPARED \nThings to do before the meeting:\n\n### Topic: Agenda Revi
 ew\n\n### Topic: Action Items\n_Review of open action items from previous 
 meetings_\n* [I18N-ACTIONS](https://github.com/w3c/i18n-actions/issues)\n\
 n### Topic: Info Share\n_Share information of interest to the working grou
 p or pertaining to internationalization in general._\n\n### Topic: Review 
 RADAR\n_Time to review new and on-going requests for specification review.
  Incoming requests are assigned to shepherds in this part of the call._\n_
 In addition\, we review the status of specifications that have received co
 mments. *Please review your issues and owned items in advance of the call*
 _\n* [RADAR](https://github.com/orgs/w3c/projects/91/views/1)\n\n### Topic
 : Pending Issue Review\n_Review of new and pending issues raised by workin
 g group members or via the various bots._\n* [Pending Issues](https://gith
 ub.com/w3c/i18n-activity/issues?q=is%3Aissue+is%3Aopen+label%3Apending)\n\
 n### Topic: WCAG-ACT Joint Meeting\n_In our discussion of [this issue](htt
 ps://github.com/w3c/wcag-act/issues/572)\, the ACT team has requested a jo
 int session to review problems with identifier matching as well as to revi
 ew other issues. Most of this week's call will be focused on this topic._\
 n* https://github.com/w3c/wcag-act/issues/572\n* [Open Issues WCAG](https:
 //github.com/w3c/i18n-activity/issues?q=is%3Aissue%20state%3Aopen%20label%
 3As%3Awcag%20)\n* [Open Issues ACT](https://github.com/w3c/i18n-activity/i
 ssues?q=is%3Aissue%20state%3Aopen%20label%3As%3Aact-rules-format)\n\n### T
 opic: Notification Email Changes\n_Richard would like to discuss making ch
 anges to our notification e-mails_\n* https://lists.w3.org/Archives/Member
 /member-i18n-core/2025Apr/0009.html\n\n### Topic: Specdev "isomorphic stri
 ng" PR\n_Addison has started to address the 'isomorphic string' comment fr
 om Anne VK in this PR. Let's review the approach and BP changes._\n* https
 ://github.com/w3c/bp-i18n-specdev/pull/158\n* [Preview](https://deploy-pre
 view-158--bp-i18n-specdev.netlify.app/#char-string-byte-oriented)\n\n### T
 opic: AOB?\n\n---\n\n#### REMINDER \nGetting too many of these notificatio
 ns? Read [this](https://lists.w3.org/Archives/Member/member-i18n-core/2022
 Mar/0013.html) email from Richard on how to manage notifications.\n\n\n###
 # SCRIBE \nIf you are set to scribe and cannot make it\, please send regre
 ts to the chair. Volunteers to act as scribe cheerfully accepted.\n\n* Ats
 ushi\n* Bert\n* Fuqiao\n\n#### Chair's Link Farm\nhttps://github.com/w3c/i
 18n-actions/issues\nhttps://github.com/orgs/w3c/projects/91/views/1\nhttps
 ://github.com/w3c/i18n-activity/issues?q=is%3Aissue+is%3Aopen+label%3Apend
 ing\n\n***WHAT IS THIS?*** This is the regular weekly teleconference of th
 e W3C Internationalization Working Group.\n\n***AGENDA+*** If you would li
 ke the chair to consider adding an item to the agenda\, please send email 
 to the public-i18n-core@ mailing list with a subject line starting `agenda
 +`. Here is an [example](https://lists.w3.org/Archives/Public/public-i18n-
 core/2023OctDec/0007.html).
STATUS:CONFIRMED
CREATED:20250414T151701Z
LAST-MODIFIED:20250421T135039Z
SEQUENCE:2
ORGANIZER;CN=W3C Calendar;PARTSTAT=ACCEPTED;ROLE=NON-PARTICIPANT:mailto:nor
 eply@w3.org
ATTENDEE;CUTYPE=GROUP;ROLE=OPT-PARTICIPANT;RSVP=FALSE;CN=Accessibility Conf
 ormance Testing (ACT) Task Force:mailto:public-wcag-act@w3.org
ATTENDEE;CUTYPE=GROUP;ROLE=OPT-PARTICIPANT;RSVP=FALSE;CN=Internationalizati
 on Working Group:mailto:public-i18n-core@w3.org
RECURRENCE-ID;TZID=Europe/London:20250424T150000
END:VEVENT
END:VCALENDAR
