BEGIN:VCALENDAR
VERSION:2.0
PRODID:-//Sabre//Sabre VObject 4.5.8//EN
CALSCALE:GREGORIAN
LAST-MODIFIED:20250409T214747Z
BEGIN:VTIMEZONE
TZID:Europe/London
X-MICROSOFT-CDO-TZID:1
BEGIN:STANDARD
DTSTART:20241027T010000
TZOFFSETFROM:+0100
TZOFFSETTO:+0000
TZNAME:GMT
END:STANDARD
BEGIN:STANDARD
DTSTART:20251026T010000
TZOFFSETFROM:+0100
TZOFFSETTO:+0000
TZNAME:GMT
END:STANDARD
BEGIN:DAYLIGHT
DTSTART:20250330T010000
TZOFFSETFROM:+0000
TZOFFSETTO:+0100
TZNAME:BST
END:DAYLIGHT
END:VTIMEZONE
BEGIN:VEVENT
UID:b7edae68-f52c-4aab-a1a6-3c37459e0786
DTSTAMP:20250409T214747Z
SUMMARY:Internationalization (I18N) WG Teleconference
DTSTART;TZID=Europe/London:20250410T150000
DTEND;TZID=Europe/London:20250410T160000
DESCRIPTION:https://www.w3.org/events/meetings/b7edae68-f52c-4aab-a1a6-3c37
 459e0786/20250410T150000/\n\n***NOTE WELL*** This meeting is scheduled in 
 the `Europe/London` time zone. \n\nThat time zone observes Daylight Saving
 s/Summer Time. Your local time for this call may vary due to differences i
 n your local time zone's observation of DST/ST from that of the UK.\n\n###
  Agenda Items of Note This Week\n\nAgenda\n\n### BE PREPARED \nThings to d
 o before the meeting:\n\n\n### Topic: Agenda Review\n\n### Topic: Action I
 tems\n_Review of open action items from previous meetings_\n* [I18N-ACTION
 S](https://github.com/w3c/i18n-actions/issues)\n\n### Topic: Info Share\n_
 Share information of interest to the working group or pertaining to intern
 ationalization in general._\n\n### Topic: Review RADAR Review\n_Time to re
 view new and on-going requests for specification review. Incoming requests
  are assigned to shepherds in this part of the call._\n_In addition\, we r
 eview the status of specifications that have received comments. *Please re
 view your issues and owned items in advance of the call*_\n* [RADAR](https
 ://github.com/orgs/w3c/projects/91/views/1)\n\n### Topic: Pending Issues R
 eview\n_Review of new and pending issues raised by working group members o
 r via the various bots._\n* [Pending Issues](https://github.com/w3c/i18n-a
 ctivity/issues?q=is%3Aissue+is%3Aopen+label%3Apending)\n\n### Topic: AOB?\
 n\n---\n\n#### REMINDER \nGetting too many of these notifications? Read [t
 his](https://lists.w3.org/Archives/Member/member-i18n-core/2022Mar/0013.ht
 ml) email from Richard on how to manage notifications.\n\n\n#### SCRIBE \n
 If you are set to scribe and cannot make it\, please send regrets to the c
 hair. Volunteers to act as scribe cheerfully accepted.\n\n* Atsushi\n* Ber
 t\n* Fuqiao\n\n#### Chair's Link Farm\nhttps://github.com/w3c/i18n-actions
 /issues\nhttps://github.com/orgs/w3c/projects/91/views/1\nhttps://github.c
 om/w3c/i18n-activity/issues?q=is%3Aissue+is%3Aopen+label%3Apending\n\n***W
 HAT IS THIS?*** This is the regular weekly teleconference of the W3C Inter
 nationalization Working Group.\n\n***AGENDA+*** If you would like the chai
 r to consider adding an item to the agenda\, please send email to the publ
 ic-i18n-core@ mailing list with a subject line starting `agenda+`. Here is
  an [example](https://lists.w3.org/Archives/Public/public-i18n-core/2023Oc
 tDec/0007.html).
STATUS:CONFIRMED
CREATED:20250409T214747Z
LAST-MODIFIED:20250409T214747Z
SEQUENCE:2
ORGANIZER;CN=W3C Calendar;PARTSTAT=ACCEPTED;ROLE=NON-PARTICIPANT:mailto:nor
 eply@w3.org
ATTENDEE;CUTYPE=GROUP;ROLE=OPT-PARTICIPANT;RSVP=FALSE;CN=Internationalizati
 on Working Group:mailto:public-i18n-core@w3.org
RECURRENCE-ID;TZID=Europe/London:20250410T150000
END:VEVENT
END:VCALENDAR
