BEGIN:VCALENDAR
VERSION:2.0
PRODID:-//Sabre//Sabre VObject 4.5.8//EN
CALSCALE:GREGORIAN
LAST-MODIFIED:20241121T162900Z
BEGIN:VTIMEZONE
TZID:Europe/London
X-MICROSOFT-CDO-TZID:1
BEGIN:DAYLIGHT
DTSTART:20240331T010000
TZOFFSETFROM:+0000
TZOFFSETTO:+0100
TZNAME:BST
END:DAYLIGHT
BEGIN:DAYLIGHT
DTSTART:20250330T010000
TZOFFSETFROM:+0000
TZOFFSETTO:+0100
TZNAME:BST
END:DAYLIGHT
BEGIN:STANDARD
DTSTART:20241027T010000
TZOFFSETFROM:+0100
TZOFFSETTO:+0000
TZNAME:GMT
END:STANDARD
END:VTIMEZONE
BEGIN:VEVENT
UID:b7edae68-f52c-4aab-a1a6-3c37459e0786
DTSTAMP:20241121T162900Z
SUMMARY:Internationalization (I18N) WG Teleconference
DTSTART;TZID=Europe/London:20241226T150000
DTEND;TZID=Europe/London:20241226T160000
DESCRIPTION:https://www.w3.org/events/meetings/b7edae68-f52c-4aab-a1a6-3c37
 459e0786/20241226T150000/\n\nThe meeting for 2024-12-26 will not occur.\n\
 nAgenda\n\n#### BE PREPARED \nThings to do before the meeting:\n\n\n#### A
 GENDA\n\n**Topic: Agenda Review**\n\n**Topic: Action Items**\n_Review of o
 pen action items from previous meetings_\n* [I18N-ACTIONS](https://github.
 com/w3c/i18n-actions/issues)\n\n**Topic: Info Share**\n_Share information 
 of interest to the working group or pertaining to internationalization in 
 general._\n\n**Topic: RADAR Review**\n_Time to review new and on-going req
 uests for specification review. Incoming requests are assigned to shepherd
 s in this part of the call._\n_In addition\, we review the status of speci
 fications that have received comments. *Please review your issues and owne
 d items in advance of the call*_\n* [RADAR](https://github.com/orgs/w3c/pr
 ojects/91/views/1)\n\n**Topic: Pending Issue Review**\n_Review of new and 
 pending issues raised by working group members or via the various bots._\n
 * [Pending Issues](https://github.com/w3c/i18n-activity/issues?q=is%3Aissu
 e+is%3Aopen+label%3Apending)\n\n**Topic: AOB?**\n\n---\n\n#### REMINDER \n
 Getting too many of these notifications? Read [this](https://lists.w3.org/
 Archives/Member/member-i18n-core/2022Mar/0013.html) email from Richard on 
 how to manage notifications.\n\n\n#### SCRIBE \nIf you are set to scribe a
 nd cannot make it\, please send regrets to the chair. Volunteers to act as
  scribe cheerfully accepted.\n\n* Atsushi\n* Bert\n* Fuqiao\n\n#### Chair'
 s Link Farm\nhttps://github.com/w3c/i18n-actions/issues\nhttps://github.co
 m/orgs/w3c/projects/91/views/1\nhttps://github.com/w3c/i18n-activity/issue
 s?q=is%3Aissue+is%3Aopen+label%3Apending\n\n***WHAT IS THIS?*** This is th
 e regular weekly teleconference of the W3C Internationalization Working Gr
 oup.\n\n***AGENDA+*** If you would like the chair to consider adding an it
 em to the agenda\, please send email to the public-i18n-core@ mailing list
  with a subject line starting `agenda+`. Here is an [example](https://list
 s.w3.org/Archives/Public/public-i18n-core/2023OctDec/0007.html).
STATUS:CANCELLED
CREATED:20241121T162900Z
LAST-MODIFIED:20241121T162900Z
SEQUENCE:2
ORGANIZER;CN=W3C Calendar;PARTSTAT=ACCEPTED;ROLE=NON-PARTICIPANT:mailto:nor
 eply@w3.org
ATTENDEE;CUTYPE=GROUP;ROLE=OPT-PARTICIPANT;RSVP=FALSE;CN=Internationalizati
 on Working Group:mailto:public-i18n-core@w3.org
RECURRENCE-ID;TZID=Europe/London:20241226T150000
END:VEVENT
END:VCALENDAR
