BEGIN:VCALENDAR
VERSION:2.0
PRODID:-//Sabre//Sabre VObject 4.5.8//EN
CALSCALE:GREGORIAN
LAST-MODIFIED:20241218T162017Z
BEGIN:VTIMEZONE
TZID:Europe/London
X-MICROSOFT-CDO-TZID:1
BEGIN:DAYLIGHT
DTSTART:20240331T010000
TZOFFSETFROM:+0000
TZOFFSETTO:+0100
TZNAME:BST
END:DAYLIGHT
BEGIN:DAYLIGHT
DTSTART:20250330T010000
TZOFFSETFROM:+0000
TZOFFSETTO:+0100
TZNAME:BST
END:DAYLIGHT
BEGIN:STANDARD
DTSTART:20241027T010000
TZOFFSETFROM:+0100
TZOFFSETTO:+0000
TZNAME:GMT
END:STANDARD
END:VTIMEZONE
BEGIN:VEVENT
UID:b7edae68-f52c-4aab-a1a6-3c37459e0786
DTSTAMP:20241218T162017Z
SUMMARY:Internationalization (I18N) WG Teleconference
DTSTART;TZID=Europe/London:20241219T150000
DTEND;TZID=Europe/London:20241219T160000
DESCRIPTION:https://www.w3.org/events/meetings/b7edae68-f52c-4aab-a1a6-3c37
 459e0786/20241219T150000/\n\n***NOTE WELL*** This meeting is scheduled in 
 the `Europe/London` time zone. \n\nThat time zone observes Daylight Saving
 s/Summer Time. Your local time for this call may vary due to differences i
 n your local time zone's observation of DST/ST from that of the UK.\n\n###
  Agenda Items of Note This Week\n\n* Some WAI-ACT and MathML core issues\n
 * Plaintext guidance? https://github.com/whatwg/html/issues/10871\n\nAgend
 a\n\n#### BE PREPARED \nThings to do before the meeting:\n\n\n#### AGENDA\
 n\n**Topic: Agenda Review**\n\n**Topic: Action Items**\n_Review of open ac
 tion items from previous meetings_\n* [I18N-ACTIONS](https://github.com/w3
 c/i18n-actions/issues)\n\n**Topic: Info Share**\n_Share information of int
 erest to the working group or pertaining to internationalization in genera
 l._\n\n**Topic: RADAR Review**\n_Time to review new and on-going requests 
 for specification review. Incoming requests are assigned to shepherds in t
 his part of the call._\n_In addition\, we review the status of specificati
 ons that have received comments. *Please review your issues and owned item
 s in advance of the call*_\n* [RADAR](https://github.com/orgs/w3c/projects
 /91/views/1)\n\n**Topic: Pending Issue Review**\n_Review of new and pendin
 g issues raised by working group members or via the various bots._\n* [Pen
 ding Issues](https://github.com/w3c/i18n-activity/issues?q=is%3Aissue+is%3
 Aopen+label%3Apending)\n\n**Topic: Some WAI-ACT and MathML Core issues**\n
 _Bert has requested that we look at the response to some WAI and MathML is
 sues._\n* [WAI-ACT email](https://lists.w3.org/Archives/Member/member-i18n
 -core/2024Dec/0000.html)\n* [MathML Core email](https://lists.w3.org/Archi
 ves/Member/member-i18n-core/2024Dec/0001.html)\n\n**Topic: Plaintext guida
 nce?**\n_WHATWG has this issue (see below) which we could discuss._\n* htt
 ps://github.com/whatwg/html/issues/10871\n\n**Topic: AOB?**\n\n---\n\n####
  REMINDER \nGetting too many of these notifications? Read [this](https://l
 ists.w3.org/Archives/Member/member-i18n-core/2022Mar/0013.html) email from
  Richard on how to manage notifications.\n\n\n#### SCRIBE \nIf you are set
  to scribe and cannot make it\, please send regrets to the chair. Voluntee
 rs to act as scribe cheerfully accepted.\n\n* Bert\n* Atsushi\n* Fuqiao\n\
 n#### Chair's Link Farm\nhttps://github.com/w3c/i18n-actions/issues\nhttps
 ://github.com/orgs/w3c/projects/91/views/1\nhttps://github.com/w3c/i18n-ac
 tivity/issues?q=is%3Aissue+is%3Aopen+label%3Apending\n\n***WHAT IS THIS?**
 * This is the regular weekly teleconference of the W3C Internationalizatio
 n Working Group.\n\n***AGENDA+*** If you would like the chair to consider 
 adding an item to the agenda\, please send email to the public-i18n-core@ 
 mailing list with a subject line starting `agenda+`. Here is an [example](
 https://lists.w3.org/Archives/Public/public-i18n-core/2023OctDec/0007.html
 ).
STATUS:CONFIRMED
CREATED:20241216T234540Z
LAST-MODIFIED:20241218T162017Z
SEQUENCE:2
ORGANIZER;CN=W3C Calendar;PARTSTAT=ACCEPTED;ROLE=NON-PARTICIPANT:mailto:nor
 eply@w3.org
ATTENDEE;CUTYPE=GROUP;ROLE=OPT-PARTICIPANT;RSVP=FALSE;CN=Internationalizati
 on Working Group:mailto:public-i18n-core@w3.org
RECURRENCE-ID;TZID=Europe/London:20241219T150000
END:VEVENT
END:VCALENDAR
