BEGIN:VCALENDAR
VERSION:2.0
PRODID:-//Sabre//Sabre VObject 4.5.8//EN
CALSCALE:GREGORIAN
LAST-MODIFIED:20210918T123637Z
BEGIN:VTIMEZONE
TZID:America/New_York
X-MICROSOFT-CDO-TZID:10
BEGIN:STANDARD
DTSTART:20201101T060000
TZOFFSETFROM:-0400
TZOFFSETTO:-0500
TZNAME:EST
END:STANDARD
BEGIN:STANDARD
DTSTART:20211107T060000
TZOFFSETFROM:-0400
TZOFFSETTO:-0500
TZNAME:EST
END:STANDARD
BEGIN:DAYLIGHT
DTSTART:20210314T070000
TZOFFSETFROM:-0500
TZOFFSETTO:-0400
TZNAME:EDT
END:DAYLIGHT
END:VTIMEZONE
BEGIN:VEVENT
UID:b5bc6808-377b-44a4-8df3-dec4ce9cef18
DTSTAMP:20210918T123637Z
SUMMARY:DiD 1.0 to REC
DTSTART;TZID=America/New_York:20210921T130000
DTEND;TZID=America/New_York:20210921T140000
DESCRIPTION:https://www.w3.org/events/meetings/b5bc6808-377b-44a4-8df3-dec4
 ce9cef18/\n\nThis is intended to resolve the comments and objections raise
 d during the [AC Review](https://www.w3.org/2002/09/wbs/33280/did-core-pr/
 results) of [Decentralized Identifiers (DIDs) v1.0](https://www.w3.org/TR/
 2021/PR-did-core-20210803/)\n\n[Implementation report](https://w3c.github.
 io/did-test-suite/)\n\nKeep in mind that there is a history here\, especia
 lly how the\ncharter was written. See the [announcement for the Group char
 ter](https://lists.w3.org/Archives/Member/w3c-ac-members/2019JulSep/0034.h
 tml).\n\nSee also the [transition request to move to Proposed Recommendati
 on](https://github.com/w3c/transitions/issues/358)\, which\ncontains links
  to various information including implementation report.\n \n\n[IRC](https
 ://irc.w3.org/): #did10 on irc.w3.org on port 6667\n\nAgenda\n\n1. DiD met
 hods [status & interop](https://w3c.github.io/did-test-suite/)\, standardi
 zation\n2. Did we achieve practical interoperability?\n3. Did we achieve t
 o make DiD decentralized\, given centralized methods?\n4. DiD methods and 
 energy requirements\n5. Do we encourage divergence with an ever growing nu
 mber of methods?\n6. JSON Web Keys and format cross-compatibility guidance
 \n7. Next steps
STATUS:CONFIRMED
CREATED:20210917T131923Z
LAST-MODIFIED:20210918T123637Z
SEQUENCE:1
ORGANIZER;CN=W3C Calendar;PARTSTAT=ACCEPTED;ROLE=NON-PARTICIPANT:mailto:nor
 eply@w3.org
END:VEVENT
END:VCALENDAR
