BEGIN:VCALENDAR
VERSION:2.0
PRODID:-//Sabre//Sabre VObject 4.5.8//EN
CALSCALE:GREGORIAN
LAST-MODIFIED:20220104T072643Z
BEGIN:VTIMEZONE
TZID:Etc/UTC
BEGIN:STANDARD
DTSTART:20200627T150000
TZOFFSETFROM:+0000
TZOFFSETTO:+0000
TZNAME:UTC
END:STANDARD
END:VTIMEZONE
BEGIN:VEVENT
UID:b53df982-4230-47e8-8061-b568a61d0aa9
DTSTAMP:20220104T072643Z
SUMMARY:WebRTC WG June 2021 call
DTSTART;TZID=Etc/UTC:20210622T150000
DTEND;TZID=Etc/UTC:20210622T170000
DESCRIPTION:https://www.w3.org/events/meetings/b53df982-4230-47e8-8061-b568
 a61d0aa9/\n\nhttps://www.w3.org/2011/04/webrtc/wiki/June_22_2021\n\nAgenda
 : https://docs.google.com/presentation/d/1PshlYthmCBg31iuyw2TlX6VyyPD2jV1w
 j3-K8GZRsbw/
STATUS:CONFIRMED
CREATED:20210618T100602Z
LAST-MODIFIED:20220104T072643Z
SEQUENCE:2
ORGANIZER;CN=W3C Calendar;PARTSTAT=ACCEPTED;ROLE=NON-PARTICIPANT:mailto:nor
 eply@w3.org
ATTENDEE;CUTYPE=GROUP;ROLE=OPT-PARTICIPANT;RSVP=FALSE;CN=Web Real-Time Comm
 unications Working Group:mailto:public-webrtc@w3.org
END:VEVENT
END:VCALENDAR
