BEGIN:VCALENDAR
VERSION:2.0
PRODID:-//Sabre//Sabre VObject 4.5.8//EN
CALSCALE:GREGORIAN
LAST-MODIFIED:20231002T150210Z
BEGIN:VTIMEZONE
TZID:Etc/UTC
BEGIN:STANDARD
DTSTART:20221007T150000
TZOFFSETFROM:+0000
TZOFFSETTO:+0000
TZNAME:UTC
END:STANDARD
END:VTIMEZONE
BEGIN:VEVENT
UID:b26532be-b1d5-40e4-911e-ae78fbde806b
DTSTAMP:20230925T144815Z
SUMMARY:Fixed Layout Accessibility Task Force
DTSTART;TZID=Etc/UTC:20231002T150000
DTEND;TZID=Etc/UTC:20231002T160000
DESCRIPTION:https://www.w3.org/events/meetings/b26532be-b1d5-40e4-911e-ae78
 fbde806b/\n\n**Cancelling due to rescheduling\, please use the Monday invi
 te).**\n\nThe Fixed Layout Accessibility Task Force on documentation will 
 be focusing on writing and editing the document to be submitted to the EU 
 commission on how publishers and reading systems can meet the requirements
  of EAA.\n\nEvery 4th meeting we will focus on the ongoing experimentation
  work\, which will be reflected in the agenda. For reference\, those dates
  will be: \nOctober 9\nNovember 6\nDecember 4
STATUS:CANCELLED
CREATED:20230920T142228Z
LAST-MODIFIED:20230925T144815Z
SEQUENCE:3
ORGANIZER;CN=W3C Calendar;PARTSTAT=ACCEPTED;ROLE=NON-PARTICIPANT:mailto:nor
 eply@w3.org
ATTENDEE;CUTYPE=GROUP;ROLE=OPT-PARTICIPANT;RSVP=FALSE;CN=Publishing Communi
 ty Group:mailto:public-publishingcg@w3.org
ATTENDEE;CUTYPE=GROUP;ROLE=OPT-PARTICIPANT;RSVP=FALSE;CN=Publishing Mainten
 ance Working Group:mailto:public-pm-wg@w3.org
RRULE:FREQ=WEEKLY;UNTIL=20231218T150000Z;INTERVAL=1;BYDAY=MO;WKST=MO
END:VEVENT
BEGIN:VEVENT
UID:b26532be-b1d5-40e4-911e-ae78fbde806b
DTSTAMP:20231002T150210Z
SUMMARY:Fixed Layout Accessibility Task Force
DTSTART;TZID=Etc/UTC:20231002T150000
DTEND;TZID=Etc/UTC:20231002T160000
DESCRIPTION:https://www.w3.org/events/meetings/b26532be-b1d5-40e4-911e-ae78
 fbde806b/20231002T150000/\n\n**Cancelling due to rescheduling\, please use
  the Monday invite).**\n\nThe Fixed Layout Accessibility Task Force on doc
 umentation will be focusing on writing and editing the document to be subm
 itted to the EU commission on how publishers and reading systems can meet 
 the requirements of EAA.\n\nEvery 4th meeting we will focus on the ongoing
  experimentation work\, which will be reflected in the agenda. For referen
 ce\, those dates will be: \nOctober 9\nNovember 6\nDecember 4
STATUS:CANCELLED
CREATED:20231002T150210Z
LAST-MODIFIED:20231002T150210Z
SEQUENCE:4
ORGANIZER;CN=W3C Calendar;PARTSTAT=ACCEPTED;ROLE=NON-PARTICIPANT:mailto:nor
 eply@w3.org
ATTENDEE;CUTYPE=GROUP;ROLE=OPT-PARTICIPANT;RSVP=FALSE;CN=Publishing Communi
 ty Group:mailto:public-publishingcg@w3.org
ATTENDEE;CUTYPE=GROUP;ROLE=OPT-PARTICIPANT;RSVP=FALSE;CN=Publishing Mainten
 ance Working Group:mailto:public-pm-wg@w3.org
RECURRENCE-ID;TZID=Etc/UTC:20231002T150000
END:VEVENT
END:VCALENDAR
