BEGIN:VCALENDAR
VERSION:2.0
PRODID:-//Sabre//Sabre VObject 4.5.8//EN
CALSCALE:GREGORIAN
LAST-MODIFIED:20251114T043552Z
BEGIN:VTIMEZONE
TZID:Asia/Tokyo
X-MICROSOFT-CDO-TZID:20
BEGIN:STANDARD
DTSTART:20241119T050000
TZOFFSETFROM:+0900
TZOFFSETTO:+0900
TZNAME:JST
END:STANDARD
END:VTIMEZONE
BEGIN:VEVENT
UID:b1fd55fb-f0a9-4bf0-befa-c99a7807d092
DTSTAMP:20251114T043552Z
SUMMARY:Devices and Sensors Working Group
DTSTART;TZID=Asia/Tokyo:20251114T140000
DTEND;TZID=Asia/Tokyo:20251114T180000
DESCRIPTION:https://www.w3.org/events/meetings/b1fd55fb-f0a9-4bf0-befa-c99a
 7807d092/\n\nThis additional meeting timeslot is canceled. \n\nPlease refe
 r to the 13 Nov 2025 meeting: https://www.w3.org/events/meetings/73a2b8ee-
 b00c-4389-b3de-61d871fbddf8/
STATUS:CONFIRMED
CREATED:20250716T142544Z
LAST-MODIFIED:20251114T043552Z
SEQUENCE:9
ORGANIZER;CN=W3C Calendar;PARTSTAT=ACCEPTED;ROLE=NON-PARTICIPANT:mailto:nor
 eply@w3.org
ATTENDEE;CUTYPE=GROUP;ROLE=OPT-PARTICIPANT;RSVP=FALSE;CN=Devices and Sensor
 s Working Group:mailto:public-device-apis@w3.org
LOCATION:Floor 5 - 504
CATEGORIES:TPAC 2025,Group Meetings
END:VEVENT
END:VCALENDAR
