BEGIN:VCALENDAR
VERSION:2.0
PRODID:-//Sabre//Sabre VObject 4.5.8//EN
CALSCALE:GREGORIAN
LAST-MODIFIED:20250212T225921Z
BEGIN:VTIMEZONE
TZID:Etc/UTC
BEGIN:STANDARD
DTSTART:20240206T170000
TZOFFSETFROM:+0000
TZOFFSETTO:+0000
TZNAME:UTC
END:STANDARD
END:VTIMEZONE
BEGIN:VEVENT
UID:b1c3c64d-9009-4310-bb42-bfc7d3238f06
DTSTAMP:20250212T225921Z
SUMMARY:WebView CG Meeting
DTSTART;TZID=Etc/UTC:20250131T170000
DTEND;TZID=Etc/UTC:20250131T180000
DESCRIPTION:https://www.w3.org/events/meetings/b1c3c64d-9009-4310-bb42-bfc7
 d3238f06/\n\nHappy 2025 to you all! We would like to kick off the new with
  a recap of 2024 and make plans for this year.\n\nAgenda: https://bit.ly/w
 ebview-cg-31-jan-2025\n\nAgenda\n\n* Admin\n* Welcome to 2025!\n* Summary 
 of 2024\n  *CanIWebView stats\n* Revisit goals\n  * Revisit charter\n  * S
 urvey + Explainers\n  * Testing
STATUS:CONFIRMED
CREATED:20250110T160508Z
LAST-MODIFIED:20250212T225921Z
SEQUENCE:0
ORGANIZER;CN=W3C Calendar;PARTSTAT=ACCEPTED;ROLE=NON-PARTICIPANT:mailto:nor
 eply@w3.org
ATTENDEE;CUTYPE=GROUP;ROLE=OPT-PARTICIPANT;RSVP=FALSE;CN=WebView Community 
 Group:mailto:public-webview@w3.org
END:VEVENT
END:VCALENDAR
