BEGIN:VCALENDAR
VERSION:2.0
PRODID:-//Sabre//Sabre VObject 4.5.8//EN
CALSCALE:GREGORIAN
LAST-MODIFIED:20251010T073856Z
BEGIN:VTIMEZONE
TZID:Europe/Brussels
BEGIN:STANDARD
DTSTART:20241027T010000
TZOFFSETFROM:+0200
TZOFFSETTO:+0100
TZNAME:CET
END:STANDARD
BEGIN:STANDARD
DTSTART:20251026T010000
TZOFFSETFROM:+0200
TZOFFSETTO:+0100
TZNAME:CET
END:STANDARD
BEGIN:DAYLIGHT
DTSTART:20250330T010000
TZOFFSETFROM:+0100
TZOFFSETTO:+0200
TZNAME:CEST
END:DAYLIGHT
END:VTIMEZONE
BEGIN:VEVENT
UID:b14658ef-5e64-4671-be87-370b62451106
DTSTAMP:20251010T073856Z
SUMMARY:LWS WG Face-to-Face Meeting (Day 3)
DTSTART;TZID=Europe/Brussels:20251010T093000
DTEND;TZID=Europe/Brussels:20251010T143000
DESCRIPTION:https://www.w3.org/events/meetings/b14658ef-5e64-4671-be87-370b
 62451106/\n\n**Meeting room:** 04.01 Philippus Lansbergen (4th Floor)\n\nA
 genda\n\n9:30 - Access Requests\n\n11:00 - Notifications in the LWS protoc
 ol\n\n12:30 - Lunch break\nLunch options are available on the 3rd floor of
  the building\, or near Gent-Sint-Pieter’s station.\n\n13:30 - LWS Test 
 Suite\n\n14:30 - Next steps\n\n15:00 - End of day 3
STATUS:CONFIRMED
CREATED:20250912T153113Z
LAST-MODIFIED:20251010T073856Z
SEQUENCE:1
ORGANIZER;CN=W3C Calendar;PARTSTAT=ACCEPTED;ROLE=NON-PARTICIPANT:mailto:nor
 eply@w3.org
ATTENDEE;CUTYPE=GROUP;ROLE=OPT-PARTICIPANT;RSVP=FALSE;CN=Linked Web Storage
  Working Group:mailto:public-lws-wg@w3.org
LOCATION:Virginie Lovelinggebouw\, Koningin Maria Hendrikaplein 70\, 9000 G
 hent\, Belgium
END:VEVENT
END:VCALENDAR
