BEGIN:VCALENDAR
VERSION:2.0
PRODID:-//Sabre//Sabre VObject 4.5.8//EN
CALSCALE:GREGORIAN
LAST-MODIFIED:20231205T194213Z
BEGIN:VTIMEZONE
TZID:America/Los_Angeles
X-MICROSOFT-CDO-TZID:13
BEGIN:DAYLIGHT
DTSTART:20230312T100000
TZOFFSETFROM:-0800
TZOFFSETTO:-0700
TZNAME:PDT
END:DAYLIGHT
BEGIN:DAYLIGHT
DTSTART:20240310T100000
TZOFFSETFROM:-0800
TZOFFSETTO:-0700
TZNAME:PDT
END:DAYLIGHT
BEGIN:STANDARD
DTSTART:20231105T090000
TZOFFSETFROM:-0700
TZOFFSETTO:-0800
TZNAME:PST
END:STANDARD
END:VTIMEZONE
BEGIN:VEVENT
UID:b0f24aa1-96af-4d34-b3c4-7fdd0e265c01
DTSTAMP:20231205T194213Z
SUMMARY:Cancelled: Immersive Web Group Calls
DTSTART;TZID=America/Los_Angeles:20231226T120000
DTEND;TZID=America/Los_Angeles:20231226T130000
DESCRIPTION:https://www.w3.org/events/meetings/b0f24aa1-96af-4d34-b3c4-7fdd
 0e265c01/20231226T120000/\n\nCanceling this occurence due to holidays. \nH
 appy holidays!\n\nAgenda: https://github.com/immersive-web/administrivia/t
 ree/main/meetings/wg
STATUS:CANCELLED
CREATED:20231205T194159Z
LAST-MODIFIED:20231205T194213Z
SEQUENCE:3
ORGANIZER;CN=W3C Calendar;PARTSTAT=ACCEPTED;ROLE=NON-PARTICIPANT:mailto:nor
 eply@w3.org
ATTENDEE;CUTYPE=GROUP;ROLE=OPT-PARTICIPANT;RSVP=FALSE;CN=Immersive Web Comm
 unity Group:mailto:public-immersive-web@w3.org
ATTENDEE;CUTYPE=GROUP;ROLE=OPT-PARTICIPANT;RSVP=FALSE;CN=Immersive Web Work
 ing Group:mailto:public-immersive-web-wg@w3.org
LOCATION:Teleconference
RECURRENCE-ID;TZID=America/Los_Angeles:20231226T120000
END:VEVENT
END:VCALENDAR
