BEGIN:VCALENDAR
VERSION:2.0
PRODID:-//Sabre//Sabre VObject 4.5.8//EN
CALSCALE:GREGORIAN
LAST-MODIFIED:20231128T122530Z
BEGIN:VTIMEZONE
TZID:America/Los_Angeles
X-MICROSOFT-CDO-TZID:13
BEGIN:DAYLIGHT
DTSTART:20230312T100000
TZOFFSETFROM:-0800
TZOFFSETTO:-0700
TZNAME:PDT
END:DAYLIGHT
BEGIN:DAYLIGHT
DTSTART:20240310T100000
TZOFFSETFROM:-0800
TZOFFSETTO:-0700
TZNAME:PDT
END:DAYLIGHT
BEGIN:STANDARD
DTSTART:20231105T090000
TZOFFSETFROM:-0700
TZOFFSETTO:-0800
TZNAME:PST
END:STANDARD
END:VTIMEZONE
BEGIN:VEVENT
UID:b0f24aa1-96af-4d34-b3c4-7fdd0e265c01
DTSTAMP:20231128T122530Z
SUMMARY:Cancelled: Immersive Web Group Calls
DTSTART;TZID=America/Los_Angeles:20231128T120000
DTEND;TZID=America/Los_Angeles:20231128T130000
DESCRIPTION:https://www.w3.org/events/meetings/b0f24aa1-96af-4d34-b3c4-7fdd
 0e265c01/20231128T120000/\n\nHi everyone\, \n\nWe are canceling today's me
 eting because some of us are sick or on vacation this week. We had one iss
 ue on the agenda and it would be great if you can comment on the issue in 
 the meantime: https://github.com/immersive-web/model-element/issues/70.\n\
 nThanks\,\nChairs\n\nAgenda: https://github.com/immersive-web/administrivi
 a/tree/main/meetings/wg
STATUS:CANCELLED
CREATED:20231128T122520Z
LAST-MODIFIED:20231128T122530Z
SEQUENCE:3
ORGANIZER;CN=W3C Calendar;PARTSTAT=ACCEPTED;ROLE=NON-PARTICIPANT:mailto:nor
 eply@w3.org
ATTENDEE;CUTYPE=GROUP;ROLE=OPT-PARTICIPANT;RSVP=FALSE;CN=Immersive Web Comm
 unity Group:mailto:public-immersive-web@w3.org
ATTENDEE;CUTYPE=GROUP;ROLE=OPT-PARTICIPANT;RSVP=FALSE;CN=Immersive Web Work
 ing Group:mailto:public-immersive-web-wg@w3.org
LOCATION:Teleconference
RECURRENCE-ID;TZID=America/Los_Angeles:20231128T120000
END:VEVENT
END:VCALENDAR
