BEGIN:VCALENDAR
VERSION:2.0
PRODID:-//Sabre//Sabre VObject 4.5.8//EN
CALSCALE:GREGORIAN
LAST-MODIFIED:20230307T224749Z
BEGIN:VTIMEZONE
TZID:Etc/UTC
BEGIN:STANDARD
DTSTART:20220311T220000
TZOFFSETFROM:+0000
TZOFFSETTO:+0000
TZNAME:UTC
END:STANDARD
END:VTIMEZONE
BEGIN:VEVENT
UID:aeb590e1-0284-415f-b826-e18b612ee5cf
DTSTAMP:20230307T224749Z
SUMMARY:Board Governance Committee
DTSTART;TZID=Etc/UTC:20230306T220000
DTEND;TZID=Etc/UTC:20230306T230000
DESCRIPTION:https://www.w3.org/events/meetings/aeb590e1-0284-415f-b826-e18b
 612ee5cf/\n\n\n\nAgenda\n\n0. Select scribe\, bash agenda\n1. Approve minu
 tes - 2023-02-07\, 2023-02-28\n2. Update on drafting of partner agreements
 \n  a. Review partner-terms issues\n3. Any other business
STATUS:CONFIRMED
CREATED:20230301T031409Z
LAST-MODIFIED:20230307T224749Z
SEQUENCE:1
ORGANIZER;CN=W3C Calendar;PARTSTAT=ACCEPTED;ROLE=NON-PARTICIPANT:mailto:nor
 eply@w3.org
ATTENDEE;CUTYPE=GROUP;ROLE=OPT-PARTICIPANT;RSVP=FALSE;CN=Board Governance C
 ommittee:mailto:board-governance@w3.org
ATTENDEE;CUTYPE=GROUP;ROLE=OPT-PARTICIPANT;RSVP=FALSE;CN=Board of Directors
 :mailto:board@w3.org
END:VEVENT
END:VCALENDAR
