BEGIN:VCALENDAR
VERSION:2.0
PRODID:-//Sabre//Sabre VObject 4.5.8//EN
CALSCALE:GREGORIAN
LAST-MODIFIED:20231018T161800Z
BEGIN:VTIMEZONE
TZID:America/New_York
X-MICROSOFT-CDO-TZID:10
BEGIN:STANDARD
DTSTART:20221106T060000
TZOFFSETFROM:-0400
TZOFFSETTO:-0500
TZNAME:EST
END:STANDARD
BEGIN:STANDARD
DTSTART:20231105T060000
TZOFFSETFROM:-0400
TZOFFSETTO:-0500
TZNAME:EST
END:STANDARD
BEGIN:DAYLIGHT
DTSTART:20230312T070000
TZOFFSETFROM:-0500
TZOFFSETTO:-0400
TZNAME:EDT
END:DAYLIGHT
END:VTIMEZONE
BEGIN:VEVENT
UID:ae05a21b-c065-4e69-8d5e-352a0d391513
DTSTAMP:20231018T161800Z
SUMMARY:VCWG Meeting
DTSTART;TZID=America/New_York:20231018T110000
DTEND;TZID=America/New_York:20231018T120000
DESCRIPTION:https://www.w3.org/events/meetings/ae05a21b-c065-4e69-8d5e-352a
 0d391513/20231018T110000/\n\nThe regular meeting for the Verifiable Creden
 tials Working Group.\nMeeting time is friendly for participants in Europe/
 Americas.\n\nAgenda\n\n### Date and Time:\nWednesday 18 Oct 2023\nTime: 11
 :00 AM Boston (60min)\nLocal date/time link: https://www.timeanddate.com/w
 orldclock/fixedtime.html?msg=VCWG+Meeting&iso=20231018T11&p1=43&ah=1\n\n##
 # SPECIAL NOTE\, if any:\n\n\n### Scribe list: \nKevinD\, ChrisA\, Oliver\
 , PhilL\, MikeJones\, Orie\, MikeP\, DmitriZ\, Andres\, GregB\, GabeC\, Ma
 nuS\, DavidW\, NickS\, PaulD\, Sebastian\, JAndrieu\, DavidC\, AndresU\, B
 enY\, DaveL\n\n### Meeting Chair:\nBrent Zundel\n\n### Topics (time)\n1-Ag
 enda Review\, Introductions  (5 min)\n2-Work Item status updates/PRs [1] (
 10 min)\n3-Issue Discussion [2] (30 min)\n\n#### Links\n[1] https://github
 .com/w3c/vc-data-model/pulls\n[2] https://github.com/w3c/vc-data-model/iss
 ues?q=is%3Aopen+is%3Aissue+label%3Abefore-CR+sort%3Aupdated-asc+-label%3A%
 22pr+exists%22+-label%3A%22ready+for+PR%22+\n\n### Issues marked pending c
 lose:\nAs of the time this email was sent\, the following issues were mark
 ed 'pending close':\n\nThere are no pending close issues\n\nFor an up to d
 ate list of the current set of 'pending close' issues\, please see: \nhttp
 s://github.com/w3c/vc-data-model/issues?q=is%3Aissue+is%3Aopen+sort%3Aupda
 ted-asc+label%3A%22pending+close%22
STATUS:CONFIRMED
CREATED:20231016T204805Z
LAST-MODIFIED:20231018T161800Z
SEQUENCE:5
ORGANIZER;CN=W3C Calendar;PARTSTAT=ACCEPTED;ROLE=NON-PARTICIPANT:mailto:nor
 eply@w3.org
ATTENDEE;CUTYPE=GROUP;ROLE=OPT-PARTICIPANT;RSVP=FALSE;CN=Verifiable Credent
 ials Working Group:mailto:public-vc-wg@w3.org
RECURRENCE-ID;TZID=America/New_York:20231018T110000
END:VEVENT
END:VCALENDAR
