BEGIN:VCALENDAR
VERSION:2.0
PRODID:-//Sabre//Sabre VObject 4.5.8//EN
CALSCALE:GREGORIAN
LAST-MODIFIED:20260401T135735Z
BEGIN:VTIMEZONE
TZID:America/New_York
X-MICROSOFT-CDO-TZID:10
BEGIN:STANDARD
DTSTART:20251102T060000
TZOFFSETFROM:-0400
TZOFFSETTO:-0500
TZNAME:EST
END:STANDARD
BEGIN:STANDARD
DTSTART:20261101T060000
TZOFFSETFROM:-0400
TZOFFSETTO:-0500
TZNAME:EST
END:STANDARD
BEGIN:DAYLIGHT
DTSTART:20260308T070000
TZOFFSETFROM:-0500
TZOFFSETTO:-0400
TZNAME:EDT
END:DAYLIGHT
END:VTIMEZONE
BEGIN:VEVENT
UID:ad334782-11dc-4a43-9dbe-49b97bd800fa
DTSTAMP:20260401T135735Z
SUMMARY:MATF weekly meeting
DTSTART;TZID=America/New_York:20260401T090000
DTEND;TZID=America/New_York:20260401T100000
DESCRIPTION:https://www.w3.org/events/meetings/ad334782-11dc-4a43-9dbe-49b9
 7bd800fa/20260401T090000/\n\n\n\nAgenda\n\n- [Second Draft Milestone: Open
  Issues](https://github.com/w3c/matf/milestone/4)\n  - [2.4.2 Page Titled]
 (https://github.com/w3c/matf/issues/9)\n  - [2.4.11 Focus Not Obscured (Mi
 nimum)](https://github.com/w3c/matf/issues/52)\n  - [2.5.3 Label in Name](
 https://github.com/w3c/matf/issues/39)\n  - [2.5.7 Dragging Movements](htt
 ps://github.com/w3c/matf/issues/53)\n  - [2.5.8 Target Size (Minimum)](htt
 ps://github.com/w3c/matf/issues/10#issuecomment-4069143395)\n  - [3.1.1 La
 nguage of Page](https://github.com/w3c/matf/issues/14)\n  - [3.1.2 Languag
 e of Parts](https://github.com/w3c/matf/issues/15)\n- [Software Layers](ht
 tps://miro.com/app/board/uXjVGCgwkGY=/)
STATUS:CONFIRMED
CREATED:20260325T080352Z
LAST-MODIFIED:20260401T135735Z
SEQUENCE:7
ORGANIZER;CN=W3C Calendar;PARTSTAT=ACCEPTED;ROLE=NON-PARTICIPANT:mailto:nor
 eply@w3.org
ATTENDEE;CUTYPE=GROUP;ROLE=OPT-PARTICIPANT;RSVP=FALSE;CN=Mobile Accessibili
 ty Task Force:mailto:public-mobile-a11y-tf@w3.org
LOCATION:Zoom - see below
RECURRENCE-ID;TZID=America/New_York:20260401T090000
END:VEVENT
END:VCALENDAR
