BEGIN:VCALENDAR
VERSION:2.0
PRODID:-//Sabre//Sabre VObject 4.5.8//EN
CALSCALE:GREGORIAN
LAST-MODIFIED:20260218T150200Z
BEGIN:VTIMEZONE
TZID:America/New_York
X-MICROSOFT-CDO-TZID:10
BEGIN:DAYLIGHT
DTSTART:20250309T070000
TZOFFSETFROM:-0500
TZOFFSETTO:-0400
TZNAME:EDT
END:DAYLIGHT
BEGIN:DAYLIGHT
DTSTART:20260308T070000
TZOFFSETFROM:-0500
TZOFFSETTO:-0400
TZNAME:EDT
END:DAYLIGHT
BEGIN:STANDARD
DTSTART:20251102T060000
TZOFFSETFROM:-0400
TZOFFSETTO:-0500
TZNAME:EST
END:STANDARD
END:VTIMEZONE
BEGIN:VEVENT
UID:ad334782-11dc-4a43-9dbe-49b97bd800fa
DTSTAMP:20260218T150200Z
SUMMARY:MATF weekly meeting
DTSTART;TZID=America/New_York:20260218T090000
DTEND;TZID=America/New_York:20260218T100000
DESCRIPTION:https://www.w3.org/events/meetings/ad334782-11dc-4a43-9dbe-49b9
 7bd800fa/20260218T090000/\n\n\n\nAgenda\n\n- [Software layers (User Agent\
 , Platform Software\, etc.)](https://miro.com/welcomeonboard/R0dUeHp3dUd1N
 mp4ZG5lWVo4eG5kekY4dHlTbHZWMzh2TS91WTZJSTRQTDJYKzVTd3Q3RU9KSC9RMGRJN1lrM3d
 CRnBHdDRrRHhNVkxrWEZ5ZGh6TVpsVnVJY2tXR2hwVm5GU3Y4VFJramI1bjgyNmdBcmd3WG9ze
 mRZRkR1cU9hWWluRVAxeXRuUUgwWDl3Mk1qRGVRPT0hdjE=?share_link_id=386230017222
 )\n- [Keyboard interface](https://github.com/w3c/matf/issues/66#issuecomme
 nt-3553194380) + [Accessibility interface](https://github.com/w3c/matf/iss
 ues/247#issuecomment-3227673242) + [Virtual keyboard](https://github.com/w
 3c/matf/issues/91#issuecomment-3717984460)\n- [Mobile operating system](ht
 tps://github.com/orgs/w3c/projects/147/views/1?pane=issue&itemId=114303630
 &issue=w3c%7Cmatf%7C102)\n- [Set of Webpages](https://github.com/w3c/matf/
 issues/11#issuecomment-3717960911)\n- [Page Titled](https://github.com/w3c
 /matf/issues/9#issuecomment-3504088263)
STATUS:CONFIRMED
CREATED:20260204T124752Z
LAST-MODIFIED:20260218T150200Z
SEQUENCE:8
ORGANIZER;CN=W3C Calendar;PARTSTAT=ACCEPTED;ROLE=NON-PARTICIPANT:mailto:nor
 eply@w3.org
ATTENDEE;CUTYPE=GROUP;ROLE=OPT-PARTICIPANT;RSVP=FALSE;CN=Mobile Accessibili
 ty Task Force:mailto:public-mobile-a11y-tf@w3.org
LOCATION:Zoom - see below
RECURRENCE-ID;TZID=America/New_York:20260218T090000
END:VEVENT
END:VCALENDAR
