BEGIN:VCALENDAR
VERSION:2.0
PRODID:-//Sabre//Sabre VObject 4.5.8//EN
CALSCALE:GREGORIAN
LAST-MODIFIED:20221122T052916Z
BEGIN:VTIMEZONE
TZID:Etc/UTC
BEGIN:STANDARD
DTSTART:20211127T070000
TZOFFSETFROM:+0000
TZOFFSETTO:+0000
TZNAME:UTC
END:STANDARD
END:VTIMEZONE
BEGIN:VEVENT
UID:ad267bf8-d5fc-4581-959a-9891c00fc25a
DTSTAMP:20221122T052916Z
SUMMARY:I18N ⇔ CSS
DTSTART;TZID=Etc/UTC:20221122T070000
DTEND;TZID=Etc/UTC:20221122T080000
DESCRIPTION:https://www.w3.org/events/meetings/ad267bf8-d5fc-4581-959a-9891
 c00fc25a/\n\nA meeting between some members of the I18N and CSS working gr
 oups to discuss open issues.\n\n**Please send agenda+ items to public-i18n
 -core@**\n\nReconfirming this iteration.\n\nAgenda\n\n#### Meeting recurre
 nce\nWhen should we do this again? How often?\n\nI18N proposes the followi
 ng topics in priority order. If CSS wants different topics\, please propos
 e them ***in advance*** so that participants can be prepared.\n\n#### Font
  Fallback and Generics\nhttps://github.com/w3c/i18n-activity/issues/1432\n
 aka https://github.com/w3c/csswg-drafts/issues/6770\nhttps://www.w3.org/In
 ternational/articles/typography/fontstyles.en\n\n#### Flow-relative syntax
  for 'margin'-like shorthands\nhttps://github.com/w3c/csswg-drafts/issues/
 1282\n\n#### Custom property namespacing\nhttps://github.com/w3c/i18n-acti
 vity/issues/1487\naka https://github.com/w3c/csswg-drafts/issues/7129\n\n-
 --\n\nAgenda: (for agendabot)\n\nTopic: Agenda\nTopic: Meeting recurrence\
 nTopic: Font Fallback\nTopic: Flow-relative syntax for margin-like shortha
 nds\nTopic: Custom property namespacing\nTopic: AOB?\n\n\n### Chair's Link
  Farm\nhttps://www.w3.org/International/track/actions/open\nNeeds Resoluti
 on issues: https://github.com/w3c/i18n-activity/issues?q=is%3Aissue+is%3Ao
 pen+css+label%3Aneeds-resolution (16 of these)\nTracker issues: https://gi
 thub.com/w3c/i18n-activity/issues?q=is%3Aissue+is%3Aopen+css+label%3Atrack
 er (150 of these)
STATUS:CONFIRMED
CREATED:20221103T194345Z
LAST-MODIFIED:20221122T052916Z
SEQUENCE:0
ORGANIZER;CN=W3C Calendar;PARTSTAT=ACCEPTED;ROLE=NON-PARTICIPANT:mailto:nor
 eply@w3.org
ATTENDEE;CUTYPE=GROUP;ROLE=OPT-PARTICIPANT;RSVP=FALSE;CN=Internationalizati
 on Working Group:mailto:public-i18n-core@w3.org
LOCATION:Location: https://www.w3.org/2017/09/i18n-meeting-info.html
END:VEVENT
END:VCALENDAR
