BEGIN:VCALENDAR
VERSION:2.0
PRODID:-//Sabre//Sabre VObject 4.5.8//EN
CALSCALE:GREGORIAN
LAST-MODIFIED:20260219T071852Z
BEGIN:VTIMEZONE
TZID:Asia/Tokyo
X-MICROSOFT-CDO-TZID:20
BEGIN:STANDARD
DTSTART:20241116T233000
TZOFFSETFROM:+0900
TZOFFSETTO:+0900
TZNAME:JST
END:STANDARD
END:VTIMEZONE
BEGIN:VEVENT
UID:ac6c0300-8b35-45a2-a7fc-0b361e6c0260
DTSTAMP:20260219T071852Z
SUMMARY:WCAG2Mobile: presentation\, explanation\, feedback
DTSTART;TZID=Asia/Tokyo:20251112T083000
DTEND;TZID=Asia/Tokyo:20251112T093000
DESCRIPTION:https://www.w3.org/events/meetings/ac6c0300-8b35-45a2-a7fc-0b36
 1e6c0260/\n\nThe Mobile Accessibility Task Force (MATF) produces resources
  for how to apply the Web Content Accessibility Guidelines (WCAG) to mobil
 e\, and makes sure mobile apps are considered in new accessibility guideli
 nes.\n\nThe MATF has published its first [Group Draft Note of WCAG2Mobile]
 (https://www.w3.org/TR/wcag2mobile-22/) on 6 May 2025\, and is currently w
 orking towards an update of this draft.\n\nIn this TPAC session we want to
  present the document\, explain the challenges\, and gather feedback.\n\nL
 ink to presentation: [janjaap.com/tpac2025](https://janjaap.com/tpac2025)\
 n\n**Goal(s):**\nGather feedback on applying WCAG to Mobile\n\nAgenda\n\n-
  Presentation\n- Explanation\n- Feedback\n\n**Materials:**\n- [Slides](htt
 ps://janjaap.com/tpac2025)\n- [Session proposal on GitHub](https://github.
 com/w3c/tpac2025-breakouts/issues/32)
STATUS:CONFIRMED
CREATED:20251028T073744Z
LAST-MODIFIED:20260219T071852Z
SEQUENCE:4
ORGANIZER;CN=W3C Calendar;PARTSTAT=ACCEPTED;ROLE=NON-PARTICIPANT:mailto:nor
 eply@w3.org
LOCATION:Floor 3 - 303
CATEGORIES:TPAC 2025,Breakout Sessions
END:VEVENT
END:VCALENDAR
