BEGIN:VCALENDAR
VERSION:2.0
PRODID:-//Sabre//Sabre VObject 4.5.8//EN
CALSCALE:GREGORIAN
LAST-MODIFIED:20260219T060730Z
BEGIN:VTIMEZONE
TZID:Asia/Tokyo
X-MICROSOFT-CDO-TZID:20
BEGIN:STANDARD
DTSTART:20241117T071500
TZOFFSETFROM:+0900
TZOFFSETTO:+0900
TZNAME:JST
END:STANDARD
END:VTIMEZONE
BEGIN:VEVENT
UID:ac1c9702-429c-4d69-b59b-7153358bce6e
DTSTAMP:20260219T060730Z
SUMMARY:Converged Use Cases for the Credential Management API
DTSTART;TZID=Asia/Tokyo:20251112T161500
DTEND;TZID=Asia/Tokyo:20251112T171500
DESCRIPTION:https://www.w3.org/events/meetings/ac1c9702-429c-4d69-b59b-7153
 358bce6e/\n\nThe Credential Management API has rapidly evolved into a crit
 ical component of identity on the web. From enabling seamless passkey expe
 riences via WebAuthn to integrating federated identity flows through FedCM
 \, facilitating SMS OTPs with WebOTP\, and now facilitating the exchange o
 f verifiable digital credentials via the Digital Credentials API\, its sco
 pe continues to expand. This proliferation of capabilities sparks a critic
 al discussion: how can these individual strengths be synergized for richer
 \, more secure\, and user-friendly identity experiences? \n\nThis session 
 aims to explore three key scenarios: first\, the concept of multi-type cre
 dential for sign-in requests\, for example allowing a single API call to s
 olicit a passkey\, a password or a federated identity\, second\, a multi-t
 ype credential for identity attributes\, for example allowing a single API
  call to solicit either a federated assertion or a digital credential base
 d on the application's needs\; and third\, the potential for a method that
  combines identity claim acquisition (e.g.\, name and verified email via f
 ederation) with simultaneous passkey creation\, streamlining initial sign-
 up and subsequent passwordless authentication.\n\n**Goal(s):**\nIdeation a
 nd requirements gathering\n\nAgenda\n\n**Materials:**\n- [Session proposal
  on GitHub](https://github.com/w3c/tpac2025-breakouts/issues/3)
STATUS:CONFIRMED
CREATED:20251028T073315Z
LAST-MODIFIED:20260219T060730Z
SEQUENCE:3
ORGANIZER;CN=W3C Calendar;PARTSTAT=ACCEPTED;ROLE=NON-PARTICIPANT:mailto:nor
 eply@w3.org
LOCATION:Floor 5 - 505
CATEGORIES:TPAC 2025,Breakout Sessions
END:VEVENT
END:VCALENDAR
