BEGIN:VCALENDAR
VERSION:2.0
PRODID:-//Sabre//Sabre VObject 4.5.8//EN
CALSCALE:GREGORIAN
LAST-MODIFIED:20240924T001453Z
BEGIN:VTIMEZONE
TZID:America/Los_Angeles
X-MICROSOFT-CDO-TZID:13
BEGIN:STANDARD
DTSTART:20231105T090000
TZOFFSETFROM:-0700
TZOFFSETTO:-0800
TZNAME:PST
END:STANDARD
BEGIN:STANDARD
DTSTART:20241103T090000
TZOFFSETFROM:-0700
TZOFFSETTO:-0800
TZNAME:PST
END:STANDARD
BEGIN:DAYLIGHT
DTSTART:20240310T100000
TZOFFSETFROM:-0800
TZOFFSETTO:-0700
TZNAME:PDT
END:DAYLIGHT
END:VTIMEZONE
BEGIN:VEVENT
UID:ab79ba64-2101-45cc-a5d3-18a97b09cb31
DTSTAMP:20240924T001453Z
SUMMARY:Accessibility Guidelines Working Group
DTSTART;TZID=America/Los_Angeles:20240924T090000
DTEND;TZID=America/Los_Angeles:20240924T180000
DESCRIPTION:https://www.w3.org/events/meetings/ab79ba64-2101-45cc-a5d3-18a9
 7b09cb31/\n\n\n\nAgenda\n\n| Start    | End | Session Title |\n| -------- 
 | ------- |------- |\n| 9:00	| 12:30	| Conformance model discussion |\n| 1
 2:30	| 13:30	| Lunch |\n| 13:30	| 16:30	| Conformance model discussion |\n
 | 16:30	| 17:30	| Review next subgroups to kick off |\n\nBreaks will be in
 cluded within the main sessions
STATUS:CONFIRMED
CREATED:20240614T163338Z
LAST-MODIFIED:20240924T001453Z
SEQUENCE:8
ORGANIZER;CN=W3C Calendar;PARTSTAT=ACCEPTED;ROLE=NON-PARTICIPANT:mailto:nor
 eply@w3.org
ATTENDEE;CUTYPE=GROUP;ROLE=OPT-PARTICIPANT;RSVP=FALSE;CN=Accessibility Guid
 elines Working Group:mailto:public-ag-admin@w3.org
LOCATION:4 Concourse Level - Palos Verdes
CATEGORIES:TPAC 2024,Group Meetings
END:VEVENT
END:VCALENDAR
