BEGIN:VCALENDAR
VERSION:2.0
PRODID:-//Sabre//Sabre VObject 4.5.8//EN
CALSCALE:GREGORIAN
LAST-MODIFIED:20211111T134335Z
BEGIN:VTIMEZONE
TZID:Etc/UTC
BEGIN:STANDARD
DTSTART:20201121T210000
TZOFFSETFROM:+0000
TZOFFSETTO:+0000
TZNAME:UTC
END:STANDARD
END:VTIMEZONE
BEGIN:VEVENT
UID:aaf398b6-005b-4b6c-9c45-a4089314d474
DTSTAMP:20211111T134335Z
SUMMARY:DCAT subgroup
DTSTART;TZID=Etc/UTC:20211116T210000
DTEND;TZID=Etc/UTC:20211116T220000
DESCRIPTION:https://www.w3.org/events/meetings/aaf398b6-005b-4b6c-9c45-a408
 9314d474/20211116T210000/\n\nDCAT issues\n\n[Teleconference logistics](htt
 ps://www.w3.org/2017/dxwg/wiki/Meetings#How_to_connect_to_the_Data_Exchang
 e_Working_Group_weekly_call)\n\n[IRC](https://irc.w3.org/): #dxwgdcat on i
 rc.w3.org on port 6667\n\nAgenda: https://www.w3.org/2017/dxwg/wiki/index.
 php?title=Meetings:Telecon2021.11.16
STATUS:TENTATIVE
CREATED:20211111T134335Z
LAST-MODIFIED:20211111T134335Z
SEQUENCE:2
ORGANIZER;CN=W3C Calendar;PARTSTAT=ACCEPTED;ROLE=NON-PARTICIPANT:mailto:nor
 eply@w3.org
ATTENDEE;CUTYPE=GROUP;ROLE=OPT-PARTICIPANT;RSVP=FALSE;CN=Dataset Exchange W
 orking Group:mailto:public-dxwg-wg@w3.org
ATTENDEE;CUTYPE=GROUP;ROLE=OPT-PARTICIPANT;RSVP=FALSE;CN=DCAT Task Force:ma
 ilto:noreply@w3.org
RECURRENCE-ID;TZID=Etc/UTC:20211116T210000
END:VEVENT
END:VCALENDAR
