BEGIN:VCALENDAR
VERSION:2.0
PRODID:-//Sabre//Sabre VObject 4.5.8//EN
CALSCALE:GREGORIAN
LAST-MODIFIED:20220706T124618Z
BEGIN:VTIMEZONE
TZID:America/New_York
X-MICROSOFT-CDO-TZID:10
BEGIN:STANDARD
DTSTART:20211107T060000
TZOFFSETFROM:-0400
TZOFFSETTO:-0500
TZNAME:EST
END:STANDARD
BEGIN:STANDARD
DTSTART:20221106T060000
TZOFFSETFROM:-0400
TZOFFSETTO:-0500
TZNAME:EST
END:STANDARD
BEGIN:DAYLIGHT
DTSTART:20220313T070000
TZOFFSETFROM:-0500
TZOFFSETTO:-0400
TZNAME:EDT
END:DAYLIGHT
END:VTIMEZONE
BEGIN:VEVENT
UID:aa6c6749-dd50-4d68-828d-4ec13d022b32
DTSTAMP:20220706T124618Z
SUMMARY:Canceled: APA Pronunciation TF
DTSTART;TZID=America/New_York:20220706T120000
DTEND;TZID=America/New_York:20220706T130000
DESCRIPTION:https://www.w3.org/events/meetings/aa6c6749-dd50-4d68-828d-4ec1
 3d022b32/20220706T120000/\n\nMany participants are away today and are not 
 available for this call. We will meet next week on July 13th
STATUS:CONFIRMED
CREATED:20220706T124617Z
LAST-MODIFIED:20220706T124618Z
SEQUENCE:4
ORGANIZER;CN=W3C Calendar;PARTSTAT=ACCEPTED;ROLE=NON-PARTICIPANT:mailto:nor
 eply@w3.org
ATTENDEE;CUTYPE=GROUP;ROLE=OPT-PARTICIPANT;RSVP=FALSE;CN=Spoken Presentatio
 n Task Force:mailto:public-pronunciation@w3.org
LOCATION:Zoom Meeting
RECURRENCE-ID;TZID=America/New_York:20220706T120000
END:VEVENT
END:VCALENDAR
